BEGIN:VCALENDAR
VERSION:2.0
PRODID:-//ChamberMaster//Event Calendar 2.0//EN
METHOD:PUBLISH
X-PUBLISHED-TTL:P3D
REFRESH-INTERVAL:P3D
CALSCALE:GREGORIAN
BEGIN:VEVENT
DTSTART:20200327T150000Z
DTEND:20200327T160000Z
X-MICROSOFT-CDO-ALLDAYEVENT:FALSE
SUMMARY:Success in 60 - Cyber Security Insurance
DESCRIPTION:Join us March 27 at 11 a.m. for an online webinar featuring information on cyber security insurance\, presented by Blake Haigler of Haigler Systems.\n\n\n\nAbout the webinar:\n\nLook down your assets\, secure your data...\nDespite high profile data breaches of large companies\, small companies are also targets for hackers as they possess sensitive information but typically have less security than larger companies. Cybersecurity insurance provides coverage for compromised security or privacy breaches at work. \n\n\n\nRegister online: https://insurance.haiglersystems.com/webinar
X-ALT-DESC;FMTTYPE=text/html:<span style="color: rgb(47\, 47\, 47)\; font-family: Lato\, sans-serif\; font-size: 16px\; font-variant-numeric: normal\; font-variant-east-asian: normal\;">Join us March 27 at 11 a.m. for an online webinar featuring information on cyber security insurance\, presented by Blake Haigler of Haigler Systems.<br />\n<br />\nAbout the webinar:<br />\nLook down your assets\, secure your data...</span>\n<div style="box-sizing: border-box\; color: rgb(47\, 47\, 47)\; font-size: 16px\; font-variant-numeric: normal\; font-variant-east-asian: normal\;">Despite high profile data breaches of large companies\, small companies are also targets for hackers as they possess sensitive information but typically have less security than larger companies. Cybersecurity insurance provides coverage for compromised security or privacy breaches at work.&nbsp\;<br />\n<br />\nRegister online:&nbsp\;<a href="https://insurance.haiglersystems.com/webinar">https://insurance.haiglersystems.com/webinar</a></div>\n
LOCATION:Online Webinar\, register here: https://insurance.haiglersystems.com/webinar
UID:e.2418.5110264
SEQUENCE:3
DTSTAMP:20260425T031401Z
URL:https://members.cabarrusncchamber.org/events/details/success-in-60-cyber-security-insurance-5110264
END:VEVENT

END:VCALENDAR
