BEGIN:VCALENDAR
VERSION:2.0
PRODID:-//ChamberMaster//Event Calendar 2.0//EN
METHOD:PUBLISH
X-PUBLISHED-TTL:P3D
REFRESH-INTERVAL:P3D
CALSCALE:GREGORIAN
BEGIN:VEVENT
DTSTART:20160423T160000Z
DTEND:20160423T160000Z
X-MICROSOFT-CDO-ALLDAYEVENT:FALSE
SUMMARY:Small Business Saturday
DESCRIPTION:The 4th Saturday of the month is Small Business Saturday - Historic Downtown Concord. Make a purchase at any of the participating businesses and entry a drawing to win $100 Downtown Concord Dollars to be spent at participating businesses.
X-ALT-DESC;FMTTYPE=text/html:The 4th Saturday of the month is Small Business Saturday - Historic Downtown Concord. Make a purchase at any of the participating businesses and entry a drawing to win $100 Downtown Concord Dollars to be spent at participating businesses.
LOCATION:Historic Downtown Concord
UID:e.2418.5105677
SEQUENCE:3
DTSTAMP:20260425T205621Z
URL:https://members.cabarrusncchamber.org/events/details/small-business-saturday-04-23-2016-5105677
END:VEVENT

END:VCALENDAR
