BEGIN:VCALENDAR
VERSION:2.0
PRODID:-//ChamberMaster//Event Calendar 2.0//EN
METHOD:PUBLISH
X-PUBLISHED-TTL:P3D
REFRESH-INTERVAL:P3D
CALSCALE:GREGORIAN
BEGIN:VEVENT
DTSTART;VALUE=DATE:20160123
DTEND;VALUE=DATE:20160124
TRANSP:TRANSPARENT
X-MICROSOFT-CDO-ALLDAYEVENT:TRUE
SUMMARY:Small Business Saturday
DESCRIPTION:Make a purchase in any of the participating businesses in Downtown Concord and enter a drawing to win $100 in Downtown Concord Dollars to be spent at participating businesses. Contact CDDC for more information at 704-784-4208.
X-ALT-DESC;FMTTYPE=text/html:Make a purchase in any of the participating businesses in Downtown Concord and enter a drawing to win $100 in Downtown Concord Dollars to be spent at participating businesses. Contact CDDC for more information at 704-784-4208.
LOCATION:Downtown Concord
UID:e.2418.5105663
SEQUENCE:3
DTSTAMP:20260421T181003Z
URL:https://members.cabarrusncchamber.org/events/details/small-business-saturday-01-23-2016-5105663
END:VEVENT

END:VCALENDAR
