BEGIN:VCALENDAR
VERSION:2.0
PRODID:-//ChamberMaster//Event Calendar 2.0//EN
METHOD:PUBLISH
X-PUBLISHED-TTL:P3D
REFRESH-INTERVAL:P3D
CALSCALE:GREGORIAN
BEGIN:VEVENT
DTSTART:20150329T180000Z
DTEND:20150329T210000Z
X-MICROSOFT-CDO-ALLDAYEVENT:FALSE
SUMMARY:Ritchie Hill: Wedding Show
DESCRIPTION:Join us for a special afternoon as Ritchie Hill gets dressed up for a grand wedding. Brides and grooms will see various ceremony and party layouts\, while enjoying drinks\, hors d'oeuvres\, desserts and live entertainment. We welcome all future brides\, grooms\, and their families. RSVP at www.ritchiehill.com/grand-opening.
X-ALT-DESC;FMTTYPE=text/html:Join us for a special afternoon as Ritchie Hill gets dressed up for a grand wedding. Brides and grooms will see various ceremony and party layouts\, while enjoying drinks\, hors d'oeuvres\, desserts and live entertainment. We welcome all future brides\, grooms\, and their families. RSVP at www.ritchiehill.com/grand-opening.
LOCATION:Ritchie Hill 391 Union Street South Concord\, NC 28025
UID:e.2418.5104795
SEQUENCE:3
DTSTAMP:20260423T062845Z
URL:https://members.cabarrusncchamber.org/events/details/ritchie-hill-wedding-show-03-29-2015-5104795
END:VEVENT

END:VCALENDAR
