BEGIN:VCALENDAR
VERSION:2.0
PRODID:-//ChamberMaster//Event Calendar 2.0//EN
METHOD:PUBLISH
X-PUBLISHED-TTL:P3D
REFRESH-INTERVAL:P3D
CALSCALE:GREGORIAN
BEGIN:VEVENT
DTSTART:20150328T180000Z
DTEND:20150328T210000Z
X-MICROSOFT-CDO-ALLDAYEVENT:FALSE
SUMMARY:Ritchie Hill: Community Open House
DESCRIPTION:Join us up on Ritchie Hill to celebrate our opening with a toast\, hors d'oeuvres\,  a tour of the home and live music. All are welcome! RSVP at www.ritchiehill.com/grand-opening.
X-ALT-DESC;FMTTYPE=text/html:Join us up on Ritchie Hill to celebrate our opening with a toast\, hors d'oeuvres\,  a tour of the home and live music. All are welcome! RSVP at www.ritchiehill.com/grand-opening.
LOCATION:Ritchie Hill 391 Union Street South Concord\, NC 28025
UID:e.2418.5104792
SEQUENCE:3
DTSTAMP:20260423T104924Z
URL:https://members.cabarrusncchamber.org/events/details/ritchie-hill-community-open-house-03-28-2015-5104792
END:VEVENT

END:VCALENDAR
