BEGIN:VCALENDAR
VERSION:2.0
PRODID:-//ChamberMaster//Event Calendar 2.0//EN
METHOD:PUBLISH
X-PUBLISHED-TTL:P3D
REFRESH-INTERVAL:P3D
CALSCALE:GREGORIAN
BEGIN:VEVENT
DTSTART:20150820T190000Z
DTEND:20150820T200000Z
X-MICROSOFT-CDO-ALLDAYEVENT:FALSE
SUMMARY:Ribbon Cutting: Web Design 59
DESCRIPTION:Join us in welcoming one of our newest Chamber Members. The Welcome to the Chamber Ribbon Cutting will begin at 3:00 PM Click here to learn more about Web Design 59.
X-ALT-DESC;FMTTYPE=text/html:Join us in welcoming one of our newest Chamber Members. The Welcome to the Chamber Ribbon Cutting will begin at 3:00 PM Click here to learn more about&nbsp\;<strong><span style="font-size:14px\;"><a href="http://www.webdesign59.com">Web Design 59</a></span></strong>.
LOCATION:Ribbon Cutting will be held at the Chamber offices. Cabarrus Regional Chamber of Commerce 3003 Dale Earnhardt Blvd. Kannapolis\, NC 28081
UID:e.2418.5105624
SEQUENCE:3
DTSTAMP:20260424T235301Z
URL:https://members.cabarrusncchamber.org/events/details/ribbon-cutting-web-design-59-08-20-2015-5105624
END:VEVENT

END:VCALENDAR
