BEGIN:VCALENDAR
VERSION:2.0
PRODID:-//ChamberMaster//Event Calendar 2.0//EN
METHOD:PUBLISH
X-PUBLISHED-TTL:P3D
REFRESH-INTERVAL:P3D
CALSCALE:GREGORIAN
BEGIN:VEVENT
DTSTART:20151019T140000Z
DTEND:20151019T150000Z
X-MICROSOFT-CDO-ALLDAYEVENT:FALSE
SUMMARY:Ribbon Cutting: Tech Zone
DESCRIPTION:Join us in welcoming one of our newest Chamber Members. The Welcome to the Chamber Ribbon Cutting will begin at 10:00 AM. \n\n\n\nTech-Zone\, a walk-up technology support center\, will hold a press conference for the grand opening of its prototype store location in Kannapolis. A new support concept from $2.2B information technology (IT) services company CompuCom\, Tech-Zone is designed to provide small and medium-sized businesses with expert technology and security services\, in addition to business-class hardware and software. The Charlotte metro area is the first region that the Tech-Zone concept is being introduced.\n\n \n\nBusiness owners and IT professionals are able to not only find support for issues like hardware repairs\, technology refreshes and software upgrades\, but also may purchase devices and hardware not available in the big box stores.\n\n  \n\nRemarks by:\n\n\n	Patrick Coughlin\, Cabarrus Regional Chamber of Commerce President\n	Darrell Hinnant\, Kannapolis Mayor\n	J. Scott Padgett\, Concord Mayor\n	Dan Stone\, Tech-Zone President
X-ALT-DESC;FMTTYPE=text/html:<span style="color: rgb(102\, 102\, 102)\; font-family: Raleway\, sans-serif\; font-size: 16px\; line-height: 20.8px\;">Join us in welcoming one of our newest Chamber Members. The Welcome to the Chamber Ribbon Cutting will begin at 10:00 AM.&nbsp\;</span><br />\n<br />\n<span style="font-size:16px\;">Tech-Zone\, a walk-up technology support center\, will hold a press conference for the grand opening of its prototype store location in Kannapolis. A new support concept from $2.2B information technology (IT) services company CompuCom\, Tech-Zone is designed to provide small and medium-sized businesses with expert technology and security services\, in addition to business-class hardware and software. The Charlotte metro area is the first region that the Tech-Zone concept is being introduced.<br />\n&nbsp\;<br />\nBusiness owners and IT professionals are able to not only find support for issues like hardware repairs\, technology refreshes and software upgrades\, but also may purchase devices and hardware not available in the big box stores.<br />\n&nbsp\;&nbsp\;</span>\n\n<div style="margin-top:0in\;margin-right:0in\;margin-bottom:0in\;margin-bottom:.0001pt\;"><span style="font-size:16px\;">Remarks by:</span>\n\n<ul style="line-height: 20.8px\;">\n	<li><span style="font-size: 16px\;">Patrick Coughlin\,&nbsp\;Cabarrus&nbsp\;Regional Chamber of Commerce President</span></li>\n	<li><span style="font-size: 16px\;">Darrell&nbsp\;Hinnant\,&nbsp\;Kannapolis&nbsp\;Mayor</span></li>\n	<li><span style="font-size: 16px\;">J. Scott Padgett\, Concord Mayor</span></li>\n	<li><span style="font-size: 16px\;">Dan Stone\, Tech-Zone President</span></li>\n</ul>\n</div>\n
LOCATION:Tech Zone 2217 Roxie Street Kannapolis\, NC 28083
UID:e.2418.5105641
SEQUENCE:3
DTSTAMP:20260421T213738Z
URL:https://members.cabarrusncchamber.org/events/details/ribbon-cutting-tech-zone-10-19-2015-5105641
END:VEVENT

END:VCALENDAR
