BEGIN:VCALENDAR
VERSION:2.0
PRODID:-//ChamberMaster//Event Calendar 2.0//EN
METHOD:PUBLISH
X-PUBLISHED-TTL:P3D
REFRESH-INTERVAL:P3D
CALSCALE:GREGORIAN
BEGIN:VEVENT
DTSTART:20150327T200000Z
DTEND:20150327T203000Z
X-MICROSOFT-CDO-ALLDAYEVENT:FALSE
SUMMARY:Ribbon Cutting - Ritchie Hill
DESCRIPTION:
X-ALT-DESC;FMTTYPE=text/html:
LOCATION:Ritchie Hill l 391 Union Street S l Concord\, NC 28025
UID:e.2418.71004
SEQUENCE:3
DTSTAMP:20260423T061610Z
URL:https://members.cabarrusncchamber.org/events/details/ribbon-cutting-ritchie-hill-03-27-2015-71004
END:VEVENT

END:VCALENDAR
