BEGIN:VCALENDAR
VERSION:2.0
PRODID:-//ChamberMaster//Event Calendar 2.0//EN
METHOD:PUBLISH
X-PUBLISHED-TTL:P3D
REFRESH-INTERVAL:P3D
CALSCALE:GREGORIAN
BEGIN:VEVENT
DTSTART:20180821T140000Z
DTEND:20180821T150000Z
X-MICROSOFT-CDO-ALLDAYEVENT:FALSE
SUMMARY:Ribbon Cutting - Pro-Tint\, Inc.
DESCRIPTION:Please join us as we celebrate the grand opening of Pro-Tint's Concord location with a ribbon cutting!
X-ALT-DESC;FMTTYPE=text/html:Please join us as we celebrate the grand opening of Pro-Tint&#39\;s Concord location with a ribbon cutting!
LOCATION:Pro-Tint\, Inc. 735 Concord Pkwy N. Concord\, NC 28027
UID:e.2418.5108308
SEQUENCE:3
DTSTAMP:20260420T084751Z
URL:https://members.cabarrusncchamber.org/events/details/ribbon-cutting-pro-tint-inc-5108308
END:VEVENT

END:VCALENDAR
