BEGIN:VCALENDAR
VERSION:2.0
PRODID:-//ChamberMaster//Event Calendar 2.0//EN
METHOD:PUBLISH
X-PUBLISHED-TTL:P3D
REFRESH-INTERVAL:P3D
CALSCALE:GREGORIAN
BEGIN:VEVENT
DTSTART:20150305T210000Z
DTEND:20150305T213000Z
X-MICROSOFT-CDO-ALLDAYEVENT:FALSE
SUMMARY:Ribbon Cutting - LearningRx
DESCRIPTION:Ribbon Cutting for LearningRx
X-ALT-DESC;FMTTYPE=text/html:Ribbon Cutting for LearningRx
LOCATION:LearningRx l 10030 Edison Square Drive North l Concord NC 28027
UID:e.2418.69288
SEQUENCE:3
DTSTAMP:20260423T062420Z
URL:https://members.cabarrusncchamber.org/events/details/ribbon-cutting-learningrx-03-05-2015-69288
END:VEVENT

END:VCALENDAR
