BEGIN:VCALENDAR
VERSION:2.0
PRODID:-//ChamberMaster//Event Calendar 2.0//EN
METHOD:PUBLISH
X-PUBLISHED-TTL:P3D
REFRESH-INTERVAL:P3D
CALSCALE:GREGORIAN
BEGIN:VEVENT
DTSTART:20151104T163000Z
DTEND:20151104T183000Z
X-MICROSOFT-CDO-ALLDAYEVENT:FALSE
SUMMARY:Ribbon Cutting: Decision Path HR
DESCRIPTION:Join us as we celebrate with one of our Chamber Members\, Decision Path HR as they open a new Concord space. The "open house" will be from 11:30 AM - 1:00 PM with the ribbon cutting at 12:00 PM.
X-ALT-DESC;FMTTYPE=text/html:Join us as we celebrate with one of our Chamber Members\, <a href="http://www.decisionpathhr.com">Decision Path HR </a>as they open a new Concord space. The &quot\;open house&quot\; will be from 11:30 AM - 1:00 PM with the ribbon cutting at 12:00 PM.&nbsp\;
LOCATION:Decision Path HR 2339 Concord Lake Road concord\, NC 28025
UID:e.2418.5105642
SEQUENCE:3
DTSTAMP:20260421T225601Z
URL:https://members.cabarrusncchamber.org/events/details/ribbon-cutting-decision-path-hr-11-04-2015-5105642
END:VEVENT

END:VCALENDAR
