BEGIN:VCALENDAR
VERSION:2.0
PRODID:-//ChamberMaster//Event Calendar 2.0//EN
METHOD:PUBLISH
X-PUBLISHED-TTL:P3D
REFRESH-INTERVAL:P3D
CALSCALE:GREGORIAN
BEGIN:VEVENT
DTSTART:20180912T140000Z
DTEND:20180912T150000Z
X-MICROSOFT-CDO-ALLDAYEVENT:FALSE
SUMMARY:Ribbon Cutting - Chicken Salad Chick
DESCRIPTION:Please join us as we help Chicken Salad Chick celebrate their first anniversary in Concord with a ribbon cutting!  The first 100 customers on Sept. 12 will receive free chicken salad!
X-ALT-DESC;FMTTYPE=text/html:Please join us as we help Chicken Salad Chick celebrate their first anniversary in Concord with a ribbon cutting!&nbsp\; The first 100 customers on Sept. 12 will receive free chicken salad!
LOCATION:Chicken Salad Chick 8915 Christenbury Pkwy #40 Concord\, NC 28027
UID:e.2418.5108287
SEQUENCE:3
DTSTAMP:20260421T101340Z
URL:https://members.cabarrusncchamber.org/events/details/ribbon-cutting-chicken-salad-chick-5108287
END:VEVENT

END:VCALENDAR
