BEGIN:VCALENDAR
VERSION:2.0
PRODID:-//ChamberMaster//Event Calendar 2.0//EN
METHOD:PUBLISH
X-PUBLISHED-TTL:P3D
REFRESH-INTERVAL:P3D
CALSCALE:GREGORIAN
BEGIN:VEVENT
DTSTART:20151211T124500Z
DTEND:20151211T140000Z
X-MICROSOFT-CDO-ALLDAYEVENT:FALSE
SUMMARY:President's Breakfast
DESCRIPTION:Board of Advisors and Chairman's Circle members are invited to join us at this exclusive appreciation breakfast in celebration of the year's accomplishments. The breakfast\, is hosted by the Chamber's Board of Directors and staff\, will have an open conversation with prestigious guests for input and ideas on how the Chamber can continue to achieve our mission lead by The Chairman of the Board. \n\n\n\nPlease note that this is an exclusive benefit of Board of Advisors and Chairman's Circle members. We invite one representative per company to attend at no cost. Additional representative are welcome to attend for $25. Please RSVP to Chemin Duffey at cduffey@cabarrus.biz or 704.260.8110.
X-ALT-DESC;FMTTYPE=text/html:<span style="font-size:14px\;"><span style="font-family:arial\;"><span style="color: rgb(0\, 0\, 0)\; line-height: normal\;">Board of Advisors and Chairman&#39\;s Circle members are invited to join us at this&nbsp\;exclusive appreciation breakfast in celebration of the year&#39\;s accomplishments. The breakfast\, is hosted by the Chamber&#39\;s Board of Directors and staff\, will have an open conversation with prestigious guests for input and ideas on how the Chamber can continue to achieve our mission lead by&nbsp\;</span><span style="color: rgb(0\, 0\, 0)\; line-height: normal\;">The Chairman of the Board.&nbsp\;</span><br />\n<br />\nPlease note that this is an exclusive benefit of Board of Advisors and Chairman&rsquo\;s Circle members. We invite one representative per company to attend at no cost. Additional representative are welcome to attend for $25. <strong>Please RSVP to Chemin Duffey at <a href="mailto:coordinator@cabarrus.biz">cduffey@cabarrus.biz</a> or 704.260.8110. </strong></span></span><br />\n&nbsp\;
LOCATION:Hilton Garden Inn- Charlotte/Concord 831 Gateway Lane Concord\, NC 28027
UID:e.2418.5105349
SEQUENCE:3
DTSTAMP:20260420T062219Z
URL:https://members.cabarrusncchamber.org/events/details/president-s-breakfast-12-11-2015-5105349
END:VEVENT

END:VCALENDAR
