BEGIN:VCALENDAR
VERSION:2.0
PRODID:-//ChamberMaster//Event Calendar 2.0//EN
METHOD:PUBLISH
X-PUBLISHED-TTL:P3D
REFRESH-INTERVAL:P3D
CALSCALE:GREGORIAN
BEGIN:VEVENT
DTSTART:20170815T153000Z
DTEND:20170815T173000Z
X-MICROSOFT-CDO-ALLDAYEVENT:FALSE
SUMMARY:New Teachers Welcome Lunch
DESCRIPTION:Each year the Chamber is proud to host Cabarrus County Schools and Kannapolis City Schools new teachers and administrators to show how much we appreciate what they do for our community and our children. Teachers and administrators will be treated to lunch\, door prizes and goody bags as well as an introduction to local businesses.
X-ALT-DESC;FMTTYPE=text/html:Each year the Chamber is proud to host Cabarrus County Schools and Kannapolis City Schools new teachers and administrators to show how much we appreciate what they do for our community and our children. Teachers and administrators will be treated to lunch\, door prizes and goody bags as well as an introduction to local businesses.&nbsp\;<br />\n<br />\n&nbsp\;
LOCATION:J.M. Robinson High School
UID:e.2418.5106955
SEQUENCE:3
DTSTAMP:20260424T000323Z
URL:https://members.cabarrusncchamber.org/events/details/new-teachers-welcome-lunch-5106955
END:VEVENT

END:VCALENDAR
