BEGIN:VCALENDAR
VERSION:2.0
PRODID:-//ChamberMaster//Event Calendar 2.0//EN
METHOD:PUBLISH
X-PUBLISHED-TTL:P3D
REFRESH-INTERVAL:P3D
CALSCALE:GREGORIAN
BEGIN:VEVENT
DTSTART:20150522T230000Z
DTEND:20150522T160000Z
X-MICROSOFT-CDO-ALLDAYEVENT:FALSE
SUMMARY:May Showdown
DESCRIPTION:The dirt will fly when the World of Outlaws Sprint Car Series takes on The Dirt Track at Charlotte on May 22 for the Outlaw Showdown. The winged\, 850-horsepower open-wheel\, sprint cars take to the four-tenths-mile clay oval to compete for the prize money and prestige of winning at The Dirt Track!
X-ALT-DESC;FMTTYPE=text/html:The dirt will fly when the World of Outlaws Sprint Car Series takes on The Dirt Track at Charlotte on May 22 for the Outlaw Showdown. The winged\, 850-horsepower open-wheel\, sprint cars take to the four-tenths-mile clay oval to compete for the prize money and prestige of winning at The Dirt Track!
LOCATION:Charlotte Motor Speedway 5555 Concord Pkwy S. Concord\, NC 28027
UID:e.2418.5104266
SEQUENCE:3
DTSTAMP:20260423T123538Z
URL:https://members.cabarrusncchamber.org/events/details/may-showdown-05-22-2015-5104266
END:VEVENT

END:VCALENDAR
