BEGIN:VCALENDAR
VERSION:2.0
PRODID:-//ChamberMaster//Event Calendar 2.0//EN
METHOD:PUBLISH
X-PUBLISHED-TTL:P3D
REFRESH-INTERVAL:P3D
CALSCALE:GREGORIAN
BEGIN:VEVENT
DTSTART:20170215T140000Z
DTEND:20170215T153000Z
X-MICROSOFT-CDO-ALLDAYEVENT:FALSE
SUMMARY:Marketing Seminar- Instagram
DESCRIPTION:Are you interested is learning how to inspire people visually with your business' story on Instagram? Instagram has more than 500 million monthly active users and there are 95 million posts shared every day. So how do you stand out and get found? In this seminar you will:\n\n  Get an overview of Instagram and whether it makes sense for your business\n\n  Learn how to use hashtags so non-followers can discover your content\n\n  See examples of compelling photos that work on Instagram (and those that don't)\n\n  Learn easy ways to do an Instagram and Facebook post at the same time\n\n  Discover great tools and apps for your phone so you can create interesting posts\n\n  Learn about tools to help you track statistics and gain insights\n\n\n\nPresenter- Lisa Perry\, Perry Productions
X-ALT-DESC;FMTTYPE=text/html:<span style="language:en-US\;"><span style="font-family:arial narrow\;">Are you interested is learning how to inspire people visually with your business&#39\; story on Instagram? Instagram has more than 500 million monthly active users and there are 95 million posts shared every day. So how do you stand out and get found? In this seminar you will:</span></span><br />\n<span style="direction:ltr\;unicode-bidi:embed\;language:x-none\;"><span style="color:black\;"><span style="font-size:10.0pt\;"><span style="font-family:symbol\;">&middot\;</span></span></span></span>&nbsp\;<span style="language:en-US\;"><span style="font-family:arial narrow\;"><span style="font-size:8.0pt\;">Get an overview of Instagram and whether it makes sense for your business</span></span></span><br />\n<span style="direction:ltr\;unicode-bidi:embed\;language:x-none\;"><span style="color:black\;"><span style="font-size:10.0pt\;"><span style="font-family:symbol\;">&middot\;</span></span></span></span>&nbsp\;<span style="language:en-US\;"><span style="font-family:arial narrow\;"><span style="font-size:8.0pt\;">Learn how to use hashtags so non-followers can discover your content</span></span></span><br />\n<span style="direction:ltr\;unicode-bidi:embed\;language:x-none\;"><span style="color:black\;"><span style="font-size:10.0pt\;"><span style="font-family:symbol\;">&middot\;</span></span></span></span>&nbsp\;<span style="language:en-US\;"><span style="font-family:arial narrow\;"><span style="font-size:8.0pt\;">See examples of compelling photos that work on Instagram (and those that don&#39\;t)</span></span></span><br />\n<span style="direction:ltr\;unicode-bidi:embed\;language:x-none\;"><span style="color:black\;"><span style="font-size:10.0pt\;"><span style="font-family:symbol\;">&middot\;</span></span></span></span>&nbsp\;<span style="language:en-US\;"><span style="font-family:arial narrow\;"><span style="font-size:8.0pt\;">Learn easy ways to do an Instagram and Facebook post at the same time</span></span></span><br />\n<span style="direction:ltr\;unicode-bidi:embed\;language:x-none\;"><span style="color:black\;"><span style="font-size:10.0pt\;"><span style="font-family:symbol\;">&middot\;</span></span></span></span>&nbsp\;<span style="language:en-US\;"><span style="font-family:arial narrow\;"><span style="font-size:8.0pt\;">Discover great tools and apps for your phone so you can create interesting posts</span></span></span><br />\n<span style="direction:ltr\;unicode-bidi:embed\;language:x-none\;"><span style="color:black\;"><span style="font-size:10.0pt\;"><span style="font-family:symbol\;">&middot\;</span></span></span></span>&nbsp\;<span style="language:en-US\;"><span style="font-family:arial narrow\;"><span style="font-size:8.0pt\;">Learn about tools to help you track statistics and gain insights</span></span></span><br />\n<br />\nPresenter- Lisa Perry\, Perry Productions
LOCATION:Cabarrus Regional Chamber of Commerce 3003 Dale Earnhardt Blvd Kannapolis. NC 28081
UID:e.2418.5106905
SEQUENCE:3
DTSTAMP:20260421T101128Z
URL:https://members.cabarrusncchamber.org/events/details/marketing-seminar-instagram-5106905
END:VEVENT

END:VCALENDAR
