BEGIN:VCALENDAR
VERSION:2.0
PRODID:-//ChamberMaster//Event Calendar 2.0//EN
METHOD:PUBLISH
X-PUBLISHED-TTL:P3D
REFRESH-INTERVAL:P3D
CALSCALE:GREGORIAN
BEGIN:VEVENT
DTSTART:20150327T114500Z
DTEND:20150327T153000Z
X-MICROSOFT-CDO-ALLDAYEVENT:FALSE
SUMMARY:Legislative Breakfast
DESCRIPTION:The Legislative Breakfast connects members with information about the upcoming North Carolina General Assembly sessions and provides direct access to our state legislators themselves. Join the Chamber for a frank discussion of the issues and legislation that affects your business on the docket for the session. Additional speakers (NC State Treasurer\, Secretary of Department of Revenue\, political commentators) often attend to provide additional perspective.  Be informed and speak one-on-one with our legislators before they go to Raleigh.  Sponsorships are available\, for more information contact us at 704-260-8110 or membersupport@cabarrus.biz.
X-ALT-DESC;FMTTYPE=text/html:The Legislative Breakfast connects members with information about the upcoming North Carolina General Assembly sessions and provides direct access to our state legislators themselves. Join the Chamber for a frank discussion of the issues and legislation that affects your business on the docket for the session. Additional speakers (NC State Treasurer\, Secretary of Department of Revenue\, political commentators) often attend to provide additional perspective.  Be informed and speak one-on-one with our legislators before they go to Raleigh.  Sponsorships are available\, for more information contact us at 704-260-8110 or membersupport@cabarrus.biz.
LOCATION:Hotel Concord | 14 Union Street N. | Concord\, NC 28025 *verifying availability
UID:e.2418.62443
SEQUENCE:3
DTSTAMP:20260423T102016Z
URL:https://members.cabarrusncchamber.org/events/details/legislative-breakfast-03-27-2015-62443
END:VEVENT

END:VCALENDAR
