BEGIN:VCALENDAR
VERSION:2.0
PRODID:-//ChamberMaster//Event Calendar 2.0//EN
METHOD:PUBLISH
X-PUBLISHED-TTL:P3D
REFRESH-INTERVAL:P3D
CALSCALE:GREGORIAN
BEGIN:VEVENT
DTSTART:20160223T123000Z
DTEND:20160223T153000Z
X-MICROSOFT-CDO-ALLDAYEVENT:FALSE
SUMMARY:Legislative Breakfast
DESCRIPTION:The Chamber's annual Legislative Breakfast is designed to give members access to candidates in upcoming elections. Another purpose for the breakfast is to hear information about issues important to the business community.\n\nWe are excited to host the following experts in their respective fields: \n\n \n\n\n	Julie White\, Executive Director of NC Metro Mayors Coalition\, who will update us on work of the coalition and their efforts to create a vision addressing the trend towards population growth in urban areas & consequent decrease in rural areas.\n	Joe Stewart. Executive Director of NC FreeEnterprise Foundation\, Joe will enlighten us about the NC electorate and what is trending as we approach the March 15 primary.\n	Russ Sullivan\, Partner with McGuireWoods Consulting in Washington\, DC. Russ has experience working in the US Congress and will share his insights about federal issues and the November elections.\n\n\n\n \n\nNetworking & Registration: 7:30 - 8:25 am\n\nProgram: 8:30 - 10:30 am\n\n\n\nTicket Information:\n\nMember Ticket- $25\n\nMember Six Pack- $125\n\nNon Member Ticket- $40
X-ALT-DESC;FMTTYPE=text/html:<div style="color: rgb(0\, 0\, 0)\; font-family: 'Arial Narrow'\, 'Arial MT Condensed Light'\, sans-serif\; font-size: 13.3333px\; line-height: normal\;"><span style="font-family:arial\;"><span style="font-size:14px\;"><span _mce_style="font-size: 10pt\;">The Chamber&#39\;s annual Legislative Breakfast is designed to give members <em><strong>access to candidates</strong></em> in upcoming elections. Another purpose for the breakfast is to&nbsp\;hear&nbsp\;<em><strong>information about issues </strong></em>important to the business community.</span></span></span></div>\n\n<p style="color: rgb(0\, 0\, 0)\; font-family: 'Arial Narrow'\, 'Arial MT Condensed Light'\, sans-serif\; font-size: 13.3333px\; line-height: normal\;"><span style="font-family:arial\;"><span style="font-size:14px\;"><span _mce_style="font-size: 10pt\;">We are excited to host the following experts in their respective fields:</span></span></span><span style="font-family:arial\;"><span style="font-size:14px\;"><span _mce_style="font-size: 10pt\;">&nbsp\;</span></span></span><br />\n&nbsp\;</p>\n\n<ul>\n	<li style="color: rgb(0\, 0\, 0)\; font-family: 'Arial Narrow'\, 'Arial MT Condensed Light'\, sans-serif\; font-size: 13.3333px\; line-height: normal\;"><span style="font-size:14px\;"><span style="font-family:arial\;"><strong>Julie White\, Executive Director of NC Metro Mayors Coalition</strong>\, who will update us on work of the coalition and their efforts to create a vision addressing the trend towards population growth in urban areas &amp\; consequent decrease in rural areas.</span></span></li>\n	<li style="color: rgb(0\, 0\, 0)\; font-family: 'Arial Narrow'\, 'Arial MT Condensed Light'\, sans-serif\; font-size: 13.3333px\; line-height: normal\;"><span style="font-size:14px\;"><span style="font-family:arial\;"><span _mce_style="font-size: 10pt\;"><strong>Joe Stewart. Executive Director of NC FreeEnterprise Foundation\,</strong>&nbsp\;<span _mce_style="font-size: 10pt\;">Joe will enlighten us about the NC electorate and what is trending as we approach the March 15 primary.</span></span></span></span></li>\n	<li style="color: rgb(0\, 0\, 0)\; font-family: 'Arial Narrow'\, 'Arial MT Condensed Light'\, sans-serif\; font-size: 13.3333px\; line-height: normal\;"><span style="font-size:14px\;"><span style="font-family:arial\;"><span _mce_style="font-size: 10pt\;"><strong>Russ Sullivan\, Partner with McGuireWoods Consulting</strong> in Washington\, DC.&nbsp\;Russ has experience working in the US Congress and will share his insights about federal issues and the November elections.</span></span></span></li>\n</ul>\n\n<div align="left" style="color: rgb(0\, 0\, 0)\; font-family: 'Arial Narrow'\, 'Arial MT Condensed Light'\, sans-serif\; font-size: 13.3333px\; line-height: normal\;">\n<div align="left">&nbsp\;</div>\n\n<div align="left"><span style="font-family:arial\;"><span style="font-size:14px\;"><span _mce_style="font-size: 10pt\;"><strong>Networking &amp\; Registration</strong>: 7:30&nbsp\;- 8:25 am</span></span></span></div>\n\n<div align="left"><span style="font-family:arial\;"><span style="font-size:14px\;"><span _mce_style="font-size: 10pt\;"><strong>Program</strong>: 8:30 - 10:30 am<br />\n<br />\n<strong>Ticket Information:</strong><br />\nMember Ticket- $25<br />\nMember Six Pack- $125<br />\nNon Member Ticket- $40</span></span></span></div>\n</div>\n
LOCATION:Kannapolis City Hall 401 Laureate Way Kannapolis\, NC 28281
UID:e.2418.5105670
SEQUENCE:3
DTSTAMP:20260419T205057Z
URL:https://members.cabarrusncchamber.org/events/details/legislative-breakfast-02-23-2016-5105670
END:VEVENT

END:VCALENDAR
