BEGIN:VCALENDAR
VERSION:2.0
PRODID:-//ChamberMaster//Event Calendar 2.0//EN
METHOD:PUBLISH
X-PUBLISHED-TTL:P3D
REFRESH-INTERVAL:P3D
CALSCALE:GREGORIAN
BEGIN:VEVENT
DTSTART:20150827T213000Z
DTEND:20150827T233000Z
X-MICROSOFT-CDO-ALLDAYEVENT:FALSE
SUMMARY:Leadership Cabarrus Reception
DESCRIPTION:Senors & Senoritas!\n\nJoin us for a FIESTA to welcome the Leadership Cabarrus Class of 2016 with an opening reception and Alumni event. Dinner and margaritas will be served. Drink tickets will be available for purchase at the event.
X-ALT-DESC;FMTTYPE=text/html:<span style="font-size:12px\;"><span style="font-family:verdana\;">Senors &amp\; Senoritas!<br />\nJoin us for a FIESTA to welcome the Leadership Cabarrus Class of 2016 with an opening&nbsp\;reception and Alumni event. Dinner and margaritas will be served. Drink tickets will be available for purchase at the event.&nbsp\;</span></span>
LOCATION:NC Research Campus\, Core Lab 150 Research Campus Drive Kannapolis\, NC 28081
UID:e.2418.5105628
SEQUENCE:3
DTSTAMP:20260421T223828Z
URL:https://members.cabarrusncchamber.org/events/details/leadership-cabarrus-reception-08-27-2015-5105628
END:VEVENT

END:VCALENDAR
