BEGIN:VCALENDAR
VERSION:2.0
PRODID:-//ChamberMaster//Event Calendar 2.0//EN
METHOD:PUBLISH
X-PUBLISHED-TTL:P3D
REFRESH-INTERVAL:P3D
CALSCALE:GREGORIAN
BEGIN:VEVENT
DTSTART:20150314T120000Z
DTEND:20150314T160000Z
X-MICROSOFT-CDO-ALLDAYEVENT:FALSE
SUMMARY:KCS Spring it On 5K
DESCRIPTION:We’re excited to announce that registration is now open for the second annual Spring it On 5K Walk/Run! It will be Saturday\, March 14 at the NC Research Campus.\n\nThe  Spring it On 5K is a wonderful event that is open to all ages. Registration is only $20\, and all proceeds benefit the Kannapolis Education Foundation.\n\nWe have reduced rates for groups\, so grab your buddies and sign up together!\n\nWhen you access the webpage\, please find “Register Now” on the right side of the page. There are two easy ways to register. If you choose “Credit/Debit\,” you may complete the entire registration online\, but processing fees will be added. To avoid the fees\, just click “Check/Cash.” That will let you fill out your registration online but mail or deliver your payment without the surcharge.\n\nPlease join the fun\, and let’s SPRING IT ON!!
X-ALT-DESC;FMTTYPE=text/html:We’re excited to announce that registration is now open for the second annual Spring it On 5K Walk/Run! It will be Saturday\, March 14 at the NC Research Campus.\n\nThe  Spring it On 5K is a wonderful event that is open to all ages. Registration is only $20\, and all proceeds benefit the Kannapolis Education Foundation.\n\nWe have reduced rates for groups\, so grab your buddies and sign up together!\n\nWhen you access the webpage\, please find “Register Now” on the right side of the page. There are two easy ways to register. If you choose “Credit/Debit\,” you may complete the entire registration online\, but processing fees will be added. To avoid the fees\, just click “Check/Cash.” That will let you fill out your registration online but mail or deliver your payment without the surcharge.\n\nPlease join the fun\, and let’s SPRING IT ON!!
LOCATION:North Carolina Research Campus 150 N. Research Campus Drive Kannapolis\, NC 28081
UID:e.2418.5103743
SEQUENCE:3
DTSTAMP:20260424T062228Z
URL:https://members.cabarrusncchamber.org/events/details/kcs-spring-it-on-5k-03-14-2015-5103743
END:VEVENT

END:VCALENDAR
