BEGIN:VCALENDAR
VERSION:2.0
PRODID:-//ChamberMaster//Event Calendar 2.0//EN
METHOD:PUBLISH
X-PUBLISHED-TTL:P3D
REFRESH-INTERVAL:P3D
CALSCALE:GREGORIAN
BEGIN:VEVENT
DTSTART:20150508T230000Z
DTEND:20150509T010000Z
X-MICROSOFT-CDO-ALLDAYEVENT:FALSE
SUMMARY:Kannapolis Arts Showcase
DESCRIPTION:Open to local Artists to share and discuss their work.\n\nIf you are bringing some pieces to display please keep it to a maximum of 2-3 pieces\, depending on size.\n\nAlso\, if you are setting up please come early to be ready by 7 pm.
X-ALT-DESC;FMTTYPE=text/html:Open to local Artists to share and discuss their work.\n\nIf you are bringing some pieces to display please keep it to a maximum of 2-3 pieces\, depending on size.\n\nAlso\, if you are setting up please come early to be ready by 7 pm.
LOCATION:Sunshine's Asian Cuisine 215 West A Street Kannapolis\, NC 28081
UID:e.2418.5103664
SEQUENCE:3
DTSTAMP:20260425T024704Z
URL:https://members.cabarrusncchamber.org/events/details/kannapolis-arts-showcase-05-08-2015-5103664
END:VEVENT

END:VCALENDAR
