BEGIN:VCALENDAR
VERSION:2.0
PRODID:-//ChamberMaster//Event Calendar 2.0//EN
METHOD:PUBLISH
X-PUBLISHED-TTL:P3D
REFRESH-INTERVAL:P3D
CALSCALE:GREGORIAN
BEGIN:VEVENT
DTSTART:20151128T230000Z
DTEND:20151129T020000Z
X-MICROSOFT-CDO-ALLDAYEVENT:FALSE
SUMMARY:Kannapolis Annual Tree Lighting
DESCRIPTION:As a part of Kannapolis Christmas\, the City of Kannapolis Parks and Recreation Department once again light the Community Christmas Tree to kick off the Celebration of Lights for the season! This year\, the Tree Lighting will feature local musicians beginning at 6:00 p.m. and culminate at 6:30 with a special guest in attendance to light the tree and help launch a brilliant fireworks show! The Winterland Express will be running after the fireworks launch. The lineup includes: Musical Selections Special Guests Tree Lighting & Fireworks
X-ALT-DESC;FMTTYPE=text/html:As a part of Kannapolis Christmas\, the City of Kannapolis Parks and Recreation Department once again light the Community Christmas Tree to kick off the Celebration of Lights for the season! This year\, the Tree Lighting will feature local musicians beginning at 6:00 p.m. and culminate at 6:30 with a special guest in attendance to light the tree and help launch a brilliant fireworks show! The Winterland Express will be running after the fireworks launch. The lineup includes: Musical Selections Special Guests Tree Lighting &amp\; Fireworks
LOCATION:Village Park 700 West C Street Kannapolis\, NC 28081
UID:e.2418.5103840
SEQUENCE:3
DTSTAMP:20260421T011148Z
URL:https://members.cabarrusncchamber.org/events/details/kannapolis-annual-tree-lighting-11-28-2015-5103840
END:VEVENT

END:VCALENDAR
