BEGIN:VCALENDAR
VERSION:2.0
PRODID:-//ChamberMaster//Event Calendar 2.0//EN
METHOD:PUBLISH
X-PUBLISHED-TTL:P3D
REFRESH-INTERVAL:P3D
CALSCALE:GREGORIAN
BEGIN:VEVENT
DTSTART:20150523T133000Z
DTEND:20150523T160000Z
X-MICROSOFT-CDO-ALLDAYEVENT:FALSE
SUMMARY:Hisense 300
DESCRIPTION:NASCAR XFINITY Series regulars will battle against various NASCAR Sprint Cup Series drivers in this 300-mile showdown. The Hisense 300 is an opportunity for fans to see great racing action with tickets starting at just $25 and children 13 and under are FREE!
X-ALT-DESC;FMTTYPE=text/html:NASCAR XFINITY Series regulars will battle against various NASCAR Sprint Cup Series drivers in this 300-mile showdown. The Hisense 300 is an opportunity for fans to see great racing action with tickets starting at just $25 and children 13 and under are FREE!
LOCATION:Charlotte Motor Speedway 5555 Concord Parkway S Concord\, NC 28027
UID:e.2418.5104634
SEQUENCE:3
DTSTAMP:20260423T104759Z
URL:https://members.cabarrusncchamber.org/events/details/hisense-300-05-23-2015-5104634
END:VEVENT

END:VCALENDAR
