BEGIN:VCALENDAR
VERSION:2.0
PRODID:-//ChamberMaster//Event Calendar 2.0//EN
METHOD:PUBLISH
X-PUBLISHED-TTL:P3D
REFRESH-INTERVAL:P3D
CALSCALE:GREGORIAN
BEGIN:VEVENT
DTSTART:20150821T114500Z
DTEND:20150821T130000Z
X-MICROSOFT-CDO-ALLDAYEVENT:FALSE
SUMMARY:Good Morning Cabarrus
DESCRIPTION:Good Morning Cabarrus will allow you to connect with fellow business leaders in the community. This fast-pasted networking and educational event will include monthly updates from the Chamber and EDC\, the county and one of our five municipalities. In addition\, this event will feature executives from successful local businesses who will discuss how they are addressing challenging issues for today's businesses. Topics may include: workplace diversity\, benefits or employee training\; personal career success stories and mentorship of employees.\n\nAugust Program\n\nSpeaker: Brian Cesca\, General Manager/Charlotte Region - DataChambers\n\nMunicipality: City of Concord
X-ALT-DESC;FMTTYPE=text/html:<p><span style="font-family:arial\;"><span style="font-size: 12px\;"><span style="color: rgb(0\, 0\, 0)\; line-height: 24px\;">Good Morning Cabarrus will allow you to connect with fellow business leaders in the community. This fast-pasted networking and educational event will include monthly updates from the Chamber and EDC\, the county and one of our five municipalities. In addition\, this event will feature executives from successful local businesses who will discuss how they are addressing challenging issues for today&rsquo\;s businesses. Topics may include: workplace diversity\, benefits or employee training\; personal career success stories and mentorship of employees.</span></span><br />\n<span style="color:#B5121B\;"><span style="font-size: 16px\;"><u><span style="font-size: 22px\;"><strong>August Program</strong></span></u></span></span></span></p>\n\n<p><span style="font-family:arial\;"><span style="font-size:14px\;"><span style="color: rgb(181\, 18\, 27)\;"><strong>Speaker: </strong>Brian Cesca\, General Manager/Charlotte Region - <a href="https://www.datachambers.com/">DataChambers</a></span></span></span></p>\n\n<p><span style="font-family:arial\;"><span style="font-size:14px\;"><span style="color: rgb(181\, 18\, 27)\;"><strong>Municipality: </strong>City of Concord</span></span></span><br />\n<br />\n<span style="font-family: arial\; font-size: 14px\; color: rgb(0\, 0\, 0)\; line-height: 24px\;">&#8203\;</span></p>\n
LOCATION:Connect Christian Church 3101 Davidson Highway Concord\, NC 28027
UID:e.2418.5105564
SEQUENCE:3
DTSTAMP:20260423T004822Z
URL:https://members.cabarrusncchamber.org/events/details/good-morning-cabarrus-08-21-2015-5105564
END:VEVENT

END:VCALENDAR
