BEGIN:VCALENDAR
VERSION:2.0
PRODID:-//ChamberMaster//Event Calendar 2.0//EN
METHOD:PUBLISH
X-PUBLISHED-TTL:P3D
REFRESH-INTERVAL:P3D
CALSCALE:GREGORIAN
BEGIN:VEVENT
DTSTART:20150717T114500Z
DTEND:20150717T130000Z
X-MICROSOFT-CDO-ALLDAYEVENT:FALSE
SUMMARY:Good Morning Cabarrus
DESCRIPTION:Good Morning Cabarrus will allow you to connect with fellow business leaders in the community. This fast-pasted networking and educational event will include monthly updates from the Chamber and EDC\, the county and one of our five municipalities. In addition\, this event will feature executives from successful local businesses who will discuss how they are addressing challenging issues for today's businesses. Topics may include: workplace diversity\, benefits or employee training\; personal career success stories and mentorship of employees.\n\n \n\nJULY PROGRAM\n\nSpeaker: Tim Robertson\, Beacon Partners will present the vision and plans for RiverOaks Commercial Park at Derita and Poplar Tent Roads.\n\nMunicipality: Town of Midland
X-ALT-DESC;FMTTYPE=text/html:<p><span style="font-family:verdana\;"><span style="line-height: 24px\;">Good Morning Cabarrus will allow you to connect with fellow business leaders in the community. This fast-pasted networking and educational event will include monthly updates from the Chamber and EDC\, the county and one of our five municipalities. In addition\, this event will feature executives from successful local businesses who will discuss how they are addressing challenging issues for today&rsquo\;s businesses. Topics may include: workplace diversity\, benefits or employee training\; personal career success stories and mentorship of employees.</span></span><br />\n&nbsp\;</p>\n\n<p><span style="font-family:arial\;"><span style="font-size: 16px\;"><span style="font-size:20px\;"><span style="color: rgb(181\, 18\, 27)\;"><u><strong>JULY PROGRAM</strong></u></span></span></span></span></p>\n\n<p><span style="font-family:arial\;"><span style="font-size: 16px\;"><span style="color:#B5121B\;"><strong>Speaker: </strong>Tim Robertson\,&nbsp\;Beacon Partners will present the vision and plans for RiverOaks Commercial Park at Derita and Poplar Tent Roads.</span></span></span></p>\n\n<p><span style="font-family:arial\;"><span style="font-size: 16px\;"><span style="color:#B5121B\;"><strong>Municipality: </strong>Town of Midland</span></span><br />\n<span style="font-size: 14px\; color: rgb(0\, 0\, 0)\; line-height: 24px\;">&#8203\;</span></span></p>\n
LOCATION:Connect Christian Church 3101 Davidson Highway Concord\, NC 28027
UID:e.2418.5105563
SEQUENCE:3
DTSTAMP:20260424T041945Z
URL:https://members.cabarrusncchamber.org/events/details/good-morning-cabarrus-07-17-2015-5105563
END:VEVENT

END:VCALENDAR
