BEGIN:VCALENDAR
VERSION:2.0
PRODID:-//ChamberMaster//Event Calendar 2.0//EN
METHOD:PUBLISH
X-PUBLISHED-TTL:P3D
REFRESH-INTERVAL:P3D
CALSCALE:GREGORIAN
BEGIN:VEVENT
DTSTART:20150619T114500Z
DTEND:20150619T130000Z
X-MICROSOFT-CDO-ALLDAYEVENT:FALSE
SUMMARY:Good Morning Cabarrus
DESCRIPTION:June Program\n\nSpeaker: Bruce Silver\, President & CEO of Racing Electronics\n\nMunicipality: Town of Mount Pleasant\n\n\n\n Good Morning Cabarrus will allow you to connect with fellow business leaders in the community. This fast-pasted networking and educational event will include monthly updates from the Chamber and EDC\, the county and one of our five municipalities. In addition\, this event will feature executives from successful local businesses who will discuss how they are addressing challenging issues for today's businesses. Topics may include: workplace diversity\, benefits or employee training\; personal career success stories and mentorship of employees.
X-ALT-DESC;FMTTYPE=text/html:<p><span style="font-size:16px\;"><span style="font-size:22px\;"><span style="font-family: times new roman\;"><strong><em><span style="color: rgb(0\, 106\, 143)\;">June Program</span></em></strong></span></span><br />\n<span style="font-family: arial\,sans-serif\;"><strong><span style="color: rgb(0\, 106\, 143)\;"><span style="font-family: arial\,sans-serif\;">Speaker: </span></span></strong><span style="color: rgb(0\, 106\, 143)\;">Bruce Silver\, President &amp\; CEO of Racing Electronics</span></span><br />\n<strong><span style="color: rgb(0\, 106\, 143)\;"><span style="font-family: arial\,sans-serif\;">Municipality: </span></span></strong><span style="color: rgb(0\, 106\, 143)\;"><span style="font-family: arial\,sans-serif\;">Town of Mount Pleasant</span></span></span><br />\n<br />\n<span style="font-family: arial\; font-size: 14px\; color: rgb(0\, 0\, 0)\; line-height: 24px\;">&#8203\;</span><span style="font-family:verdana\;"><span style="font-size: 12px\;"><span style="color: rgb(0\, 0\, 0)\; line-height: 24px\;">Good Morning Cabarrus will allow you to connect with fellow business leaders in the community. This fast-pasted networking and educational event will include monthly updates from the Chamber and EDC\, the county and one of our five municipalities. In addition\, this event will feature executives from successful local businesses who will discuss how they are addressing challenging issues for today&rsquo\;s businesses. Topics may include: workplace diversity\, benefits or employee training\; personal career success stories and mentorship of employees.</span></span></span></p>\n
LOCATION:Connect Christian Church 3101 Davidson Highway Concord\, NC 28027
UID:e.2418.5105331
SEQUENCE:3
DTSTAMP:20260423T213247Z
URL:https://members.cabarrusncchamber.org/events/details/good-morning-cabarrus-06-19-2015-5105331
END:VEVENT

END:VCALENDAR
