BEGIN:VCALENDAR
VERSION:2.0
PRODID:-//ChamberMaster//Event Calendar 2.0//EN
METHOD:PUBLISH
X-PUBLISHED-TTL:P3D
REFRESH-INTERVAL:P3D
CALSCALE:GREGORIAN
BEGIN:VEVENT
DTSTART:20150320T114500Z
DTEND:20150320T130000Z
X-MICROSOFT-CDO-ALLDAYEVENT:FALSE
SUMMARY:Good Morning Cabarrus
DESCRIPTION:Good Morning Cabarrus will allow you to connect with fellow business leaders in the community. This fast-paced networking and educational event will include monthly updates from the Chamber and EDC\, the county and one of our five municipalities. In addition\, this event will feature executives from successful local businesses who will discuss how they are addressing challenging issues for today’s businesses. \n\nMarch Guest Speaker: Gordon Food Representative   |  March Municipality: City of Kannapolis\n\nPlease look for the event signs set up at Connect Christian Church.
X-ALT-DESC;FMTTYPE=text/html:Good Morning Cabarrus will allow you to connect with fellow business leaders in the community. This fast-paced networking and educational event will include monthly updates from the Chamber and EDC\, the county and one of our five municipalities. In addition\, this event will feature executives from successful local businesses who will discuss how they are addressing challenging issues for today’s businesses. \n\nMarch Guest Speaker: Gordon Food Representative   |  March Municipality: City of Kannapolis\n\nPlease look for the event signs set up at Connect Christian Church.
LOCATION:Connect Christian Church 3101 Davidson Hwy. Concord\, NC 28027
UID:e.2418.66760
SEQUENCE:3
DTSTAMP:20260423T062911Z
URL:https://members.cabarrusncchamber.org/events/details/good-morning-cabarrus-03-20-2015-66760
END:VEVENT

END:VCALENDAR
