BEGIN:VCALENDAR
VERSION:2.0
PRODID:-//ChamberMaster//Event Calendar 2.0//EN
METHOD:PUBLISH
X-PUBLISHED-TTL:P3D
REFRESH-INTERVAL:P3D
CALSCALE:GREGORIAN
BEGIN:VEVENT
DTSTART:20160115T124500Z
DTEND:20160115T140000Z
X-MICROSOFT-CDO-ALLDAYEVENT:FALSE
SUMMARY:Good Morning Cabarrus
DESCRIPTION:Good Morning Cabarrus will allow you to connect with fellow business leaders in the community. This fast-pasted networking and educational event will include updates from the county\, one of our five municipalities\, the Chamber and the EDC. In addition\, this event will feature executives from successful local businesses who will discuss how they are addressing challenging issues for today's businesses. Topics may include: workplace diversity\, benefits or employee training\; personal career success stories and mentorship of employees.\n\n\n\nJanuary Program: Jay Howard- JHE Production Group\, Inc.\n\n\n\nMunicipality: Town of Midland
X-ALT-DESC;FMTTYPE=text/html:<span style="box-sizing: content-box\; margin: 0px\; padding: 0px\; border: none\; border-image-source: none\; border-image-slice: 100% 1 0\; border-image-repeat: stretch\; font-style: inherit\; font-variant: inherit\; font-weight: inherit\; font-stretch: inherit\; font-size: inherit\; line-height: inherit\; font-family: verdana\; vertical-align: baseline\; bottom: auto\; clear: none\; color: inherit\; content: normal\; direction: inherit\; empty-cells: show\; left: auto\; letter-spacing: inherit\; max-height: none\; max-width: none\; min-height: initial\; min-width: initial\; opacity: 1\; outline: invert none medium\; outline-offset: 0px\; overflow: visible\; position: static\; resize: none\; right: auto\; table-layout: auto\; text-align: inherit\; text-indent: inherit\; text-overflow: clip\; text-transform: inherit\; top: auto\; visibility: inherit\; white-space: inherit\; word-break: inherit\; word-spacing: inherit\; word-wrap: inherit\; z-index: auto\; border-collapse: separate\; border-radius: 0px\; height: auto\; width: auto\; box-shadow: none\; background: none\;"><span style="box-sizing: content-box\; margin: 0px\; padding: 0px\; border: none\; border-image-source: none\; border-image-slice: 100% 1 0\; border-image-repeat: stretch\; font-style: inherit\; font-variant: inherit\; font-weight: inherit\; font-stretch: inherit\; font-size: inherit\; line-height: 24px\; font-family: inherit\; vertical-align: baseline\; bottom: auto\; clear: none\; color: inherit\; content: normal\; direction: inherit\; empty-cells: show\; left: auto\; letter-spacing: inherit\; max-height: none\; max-width: none\; min-height: initial\; min-width: initial\; opacity: 1\; outline: invert none medium\; outline-offset: 0px\; overflow: visible\; position: static\; resize: none\; right: auto\; table-layout: auto\; text-align: inherit\; text-indent: inherit\; text-overflow: clip\; text-transform: inherit\; top: auto\; visibility: inherit\; white-space: inherit\; word-break: inherit\; word-spacing: inherit\; word-wrap: inherit\; z-index: auto\; border-collapse: separate\; border-radius: 0px\; height: auto\; width: auto\; box-shadow: none\; background: none\;">Good Morning Cabarrus will allow you to connect with fellow business leaders in the community. This fast-pasted networking and educational event will include updates from&nbsp\;</span></span><span style="box-sizing: content-box\; margin: 0px\; padding: 0px\; border: none\; border-image-source: none\; border-image-slice: 100% 1 0\; border-image-repeat: stretch\; font-stretch: inherit\; font-size: 16px\; line-height: 24px\; font-family: verdana\; vertical-align: baseline\; bottom: auto\; clear: none\; color: rgb(102\, 102\, 102)\; content: normal\; direction: inherit\; empty-cells: show\; left: auto\; max-height: none\; max-width: none\; min-height: initial\; min-width: initial\; opacity: 1\; outline: invert none medium\; outline-offset: 0px\; overflow: visible\; position: static\; resize: none\; right: auto\; table-layout: auto\; text-overflow: clip\; top: auto\; visibility: inherit\; word-break: inherit\; word-wrap: inherit\; z-index: auto\; border-collapse: separate\; border-radius: 0px\; height: auto\; width: auto\; box-shadow: none\; background-image: none\; background-attachment: initial\; background-size: initial\; background-origin: initial\; background-clip: initial\; background-position: initial\; background-repeat: initial\;">the county\,&nbsp\;one of our five&nbsp\;</span><span style="box-sizing: content-box\; margin: 0px\; padding: 0px\; border: none\; border-image-source: none\; border-image-slice: 100% 1 0\; border-image-repeat: stretch\; font-stretch: inherit\; font-size: 16px\; line-height: 24px\; font-family: verdana\; vertical-align: baseline\; bottom: auto\; clear: none\; color: rgb(102\, 102\, 102)\; content: normal\; direction: inherit\; empty-cells: show\; left: auto\; max-height: none\; max-width: none\; min-height: initial\; min-width: initial\; opacity: 1\; outline: invert none medium\; outline-offset: 0px\; overflow: visible\; position: static\; resize: none\; right: auto\; table-layout: auto\; text-overflow: clip\; top: auto\; visibility: inherit\; word-break: inherit\; word-wrap: inherit\; z-index: auto\; border-collapse: separate\; border-radius: 0px\; height: auto\; width: auto\; box-shadow: none\; background-image: none\; background-attachment: initial\; background-size: initial\; background-origin: initial\; background-clip: initial\; background-position: initial\; background-repeat: initial\;">municipalities\,&nbsp\;</span><span style="box-sizing: content-box\; margin: 0px\; padding: 0px\; border: none\; border-image-source: none\; border-image-slice: 100% 1 0\; border-image-repeat: stretch\; font-style: inherit\; font-variant: inherit\; font-weight: inherit\; font-stretch: inherit\; font-size: inherit\; line-height: inherit\; font-family: verdana\; vertical-align: baseline\; bottom: auto\; clear: none\; color: inherit\; content: normal\; direction: inherit\; empty-cells: show\; left: auto\; letter-spacing: inherit\; max-height: none\; max-width: none\; min-height: initial\; min-width: initial\; opacity: 1\; outline: invert none medium\; outline-offset: 0px\; overflow: visible\; position: static\; resize: none\; right: auto\; table-layout: auto\; text-align: inherit\; text-indent: inherit\; text-overflow: clip\; text-transform: inherit\; top: auto\; visibility: inherit\; white-space: inherit\; word-break: inherit\; word-spacing: inherit\; word-wrap: inherit\; z-index: auto\; border-collapse: separate\; border-radius: 0px\; height: auto\; width: auto\; box-shadow: none\; background: none\;"><span style="box-sizing: content-box\; margin: 0px\; padding: 0px\; border: none\; border-image-source: none\; border-image-slice: 100% 1 0\; border-image-repeat: stretch\; font-style: inherit\; font-variant: inherit\; font-weight: inherit\; font-stretch: inherit\; font-size: inherit\; line-height: 24px\; font-family: inherit\; vertical-align: baseline\; bottom: auto\; clear: none\; color: inherit\; content: normal\; direction: inherit\; empty-cells: show\; left: auto\; letter-spacing: inherit\; max-height: none\; max-width: none\; min-height: initial\; min-width: initial\; opacity: 1\; outline: invert none medium\; outline-offset: 0px\; overflow: visible\; position: static\; resize: none\; right: auto\; table-layout: auto\; text-align: inherit\; text-indent: inherit\; text-overflow: clip\; text-transform: inherit\; top: auto\; visibility: inherit\; white-space: inherit\; word-break: inherit\; word-spacing: inherit\; word-wrap: inherit\; z-index: auto\; border-collapse: separate\; border-radius: 0px\; height: auto\; width: auto\; box-shadow: none\; background: none\;">the</span></span><span style="box-sizing: content-box\; margin: 0px\; padding: 0px\; border: none\; border-image-source: none\; border-image-slice: 100% 1 0\; border-image-repeat: stretch\; font-style: inherit\; font-variant: inherit\; font-weight: inherit\; font-stretch: inherit\; font-size: inherit\; line-height: inherit\; font-family: verdana\; vertical-align: baseline\; bottom: auto\; clear: none\; color: inherit\; content: normal\; direction: inherit\; empty-cells: show\; left: auto\; letter-spacing: inherit\; max-height: none\; max-width: none\; min-height: initial\; min-width: initial\; opacity: 1\; outline: invert none medium\; outline-offset: 0px\; overflow: visible\; position: static\; resize: none\; right: auto\; table-layout: auto\; text-align: inherit\; text-indent: inherit\; text-overflow: clip\; text-transform: inherit\; top: auto\; visibility: inherit\; white-space: inherit\; word-break: inherit\; word-spacing: inherit\; word-wrap: inherit\; z-index: auto\; border-collapse: separate\; border-radius: 0px\; height: auto\; width: auto\; box-shadow: none\; background: none\;"><span style="box-sizing: content-box\; margin: 0px\; padding: 0px\; border: none\; border-image-source: none\; border-image-slice: 100% 1 0\; border-image-repeat: stretch\; font-style: inherit\; font-variant: inherit\; font-weight: inherit\; font-stretch: inherit\; font-size: inherit\; line-height: 24px\; font-family: inherit\; vertical-align: baseline\; bottom: auto\; clear: none\; color: inherit\; content: normal\; direction: inherit\; empty-cells: show\; left: auto\; letter-spacing: inherit\; max-height: none\; max-width: none\; min-height: initial\; min-width: initial\; opacity: 1\; outline: invert none medium\; outline-offset: 0px\; overflow: visible\; position: static\; resize: none\; right: auto\; table-layout: auto\; text-align: inherit\; text-indent: inherit\; text-overflow: clip\; text-transform: inherit\; top: auto\; visibility: inherit\; white-space: inherit\; word-break: inherit\; word-spacing: inherit\; word-wrap: inherit\; z-index: auto\; border-collapse: separate\; border-radius: 0px\; height: auto\; width: auto\; box-shadow: none\; background: none\;">&nbsp\;Chamber and the EDC. In addition\, this event will feature executives from successful local businesses who will discuss how they are addressing challenging issues for today&rsquo\;s businesses. Topics may include: workplace diversity\, benefits or employee training\; personal career success stories and mentorship of employees.<br />\n<br />\n<u>January Program:</u>&nbsp\;Jay Howard- JHE Production Group\, Inc.<br />\n<br />\n<u>Municipality:</u> Town of Midland</span></span>
LOCATION:Connect Christian Church 3101 Davidson Hwy. Concord\, NC 28027
UID:e.2418.5105668
SEQUENCE:3
DTSTAMP:20260420T182223Z
URL:https://members.cabarrusncchamber.org/events/details/good-morning-cabarrus-01-15-2016-5105668
END:VEVENT

END:VCALENDAR
