BEGIN:VCALENDAR
VERSION:2.0
PRODID:-//ChamberMaster//Event Calendar 2.0//EN
METHOD:PUBLISH
X-PUBLISHED-TTL:P3D
REFRESH-INTERVAL:P3D
CALSCALE:GREGORIAN
BEGIN:VEVENT
DTSTART:20160413T123000Z
DTEND:20160413T183000Z
X-MICROSOFT-CDO-ALLDAYEVENT:FALSE
SUMMARY:Fearless Caregiver
DESCRIPTION:Trinity Oaks and Lutheran Services Carolina will host the Fearless Caregiver Conference. This caregiver conference is designed to help the caregiver that is feeling overwhelmed and looking for answers to questions to help them while caring for their loved one. Gary Barg\, founder and publisher of Today's Caregiver magazine and caregiver.com. We will also have Marjorie Brown\, local Elder Law Attorney\, Mary Ann Drummond\, local author of Meet Me Where I Am and I Choose to Remember\, and Dr Samantha Suffren\, a board-certified psychiatrist with a passion for serving her patients through care and education\, who will serve on a question and answer panel. To RSVP please call 877-829-2734.
X-ALT-DESC;FMTTYPE=text/html:Trinity Oaks and Lutheran Services Carolina will host the Fearless Caregiver Conference. This caregiver conference is designed to help the caregiver that is feeling overwhelmed and looking for answers to questions to help them while caring for their loved one. Gary Barg\, founder and publisher of Today&#39\;s Caregiver magazine and caregiver.com. We will also have Marjorie Brown\, local Elder Law Attorney\, Mary Ann Drummond\, local author of Meet Me Where I Am and I Choose to Remember\, and Dr Samantha Suffren\, a board-certified psychiatrist with a passion for serving her patients through care and education\, who will serve on a question and answer panel. To RSVP please call 877-829-2734.
LOCATION:Trinity Oaks 820 Klumac Rd Salisbury NC 28144
UID:e.2418.5105693
SEQUENCE:3
DTSTAMP:20260425T190711Z
URL:https://members.cabarrusncchamber.org/events/details/fearless-caregiver-04-13-2016-5105693
END:VEVENT

END:VCALENDAR
