BEGIN:VCALENDAR
VERSION:2.0
PRODID:-//ChamberMaster//Event Calendar 2.0//EN
METHOD:PUBLISH
X-PUBLISHED-TTL:P3D
REFRESH-INTERVAL:P3D
CALSCALE:GREGORIAN
BEGIN:VEVENT
DTSTART:20160615T130000Z
DTEND:20160616T160000Z
X-MICROSOFT-CDO-ALLDAYEVENT:FALSE
SUMMARY:Eat The Rainbow
DESCRIPTION:Cloverbuds (5-8 year old) Class: Explore nutritious and easy to prepare snacks and foods eating all of the colors of the rainbow. Focuses on healthy eating and kitchen safety\, while creating fun to eat foods. Snacks\, equipment and activities are included.
X-ALT-DESC;FMTTYPE=text/html:Cloverbuds (5-8 year old) Class: Explore nutritious and easy to prepare snacks and foods eating all of the colors of the rainbow. Focuses on healthy eating and kitchen safety\, while creating fun to eat foods. Snacks\, equipment and activities are included.
LOCATION:Cooperative Extension Office 715 Cabarrus Avenue-West Concord\, NC 28027
UID:e.2418.5105774
SEQUENCE:3
DTSTAMP:20260420T181712Z
URL:https://members.cabarrusncchamber.org/events/details/eat-the-rainbow-06-15-2016-5105774
END:VEVENT

END:VCALENDAR
