BEGIN:VCALENDAR
VERSION:2.0
PRODID:-//ChamberMaster//Event Calendar 2.0//EN
METHOD:PUBLISH
X-PUBLISHED-TTL:P3D
REFRESH-INTERVAL:P3D
CALSCALE:GREGORIAN
BEGIN:VEVENT
DTSTART;VALUE=DATE:20160201
DTEND;VALUE=DATE:20160302
TRANSP:TRANSPARENT
X-MICROSOFT-CDO-ALLDAYEVENT:TRUE
SUMMARY:Concord on Canvas Art Display
DESCRIPTION:Decorative banners along Union Street display prints of the 2016 Concord on Canvas paintings collection. Paintings are the work of area professional artists and high school art students. Online-bidding continues throughout the display\, leading up to the Concord on Canvas party and auction on Friday\, March 11. Contact CDDC for more information.
X-ALT-DESC;FMTTYPE=text/html:Decorative banners along Union Street display prints of the 2016 Concord on Canvas paintings collection. Paintings are the work of area professional artists and high school art students. Online-bidding continues throughout the display\, leading up to the Concord on Canvas party and auction on Friday\, March 11. Contact CDDC for more information.
LOCATION:Downtown Concord
UID:e.2418.5105661
SEQUENCE:3
DTSTAMP:20260421T103156Z
URL:https://members.cabarrusncchamber.org/events/details/concord-on-canvas-art-display-02-01-2016-5105661
END:VEVENT

END:VCALENDAR
