BEGIN:VCALENDAR
VERSION:2.0
PRODID:-//ChamberMaster//Event Calendar 2.0//EN
METHOD:PUBLISH
X-PUBLISHED-TTL:P3D
REFRESH-INTERVAL:P3D
CALSCALE:GREGORIAN
BEGIN:VEVENT
DTSTART:20150524T163000Z
DTEND:20150524T040000Z
X-MICROSOFT-CDO-ALLDAYEVENT:FALSE
SUMMARY:Coca Cola 600
DESCRIPTION:In the 56th running of the Coca-Cola 600 the stars of the NASCAR Sprint Cup Series do battle on May 24 at Charlotte Motor Speedway in the longest race of the NASCAR Sprint Cup Series.
X-ALT-DESC;FMTTYPE=text/html:In the 56th running of the Coca-Cola 600 the stars of the NASCAR Sprint Cup Series do battle on May 24 at Charlotte Motor Speedway in the longest race of the NASCAR Sprint Cup Series.
LOCATION:Charlotte Motor Speedway 5555 Concord Pkwy S. Concord\, NC 28027
UID:e.2418.5104272
SEQUENCE:3
DTSTAMP:20260425T202209Z
URL:https://members.cabarrusncchamber.org/events/details/coca-cola-600-05-24-2015-5104272
END:VEVENT

END:VCALENDAR
