BEGIN:VCALENDAR
VERSION:2.0
PRODID:-//ChamberMaster//Event Calendar 2.0//EN
METHOD:PUBLISH
X-PUBLISHED-TTL:P3D
REFRESH-INTERVAL:P3D
CALSCALE:GREGORIAN
BEGIN:VEVENT
DTSTART:20150604T230000Z
DTEND:20150605T010000Z
X-MICROSOFT-CDO-ALLDAYEVENT:FALSE
SUMMARY:Chamber Night Baseball
DESCRIPTION:Chamber Members can reserve up to 10 tickets for the game. Tickets will be at will call on the day of the game under the name of the requester.
X-ALT-DESC;FMTTYPE=text/html:<span style="color: rgb(0\, 0\, 0)\; font-family: Arial\, Helvetica\, sans-serif\; font-size: 12px\; line-height: normal\;">Chamber Members can reserve up to 10 tickets for the game.&nbsp\;</span><span style="color: rgb(0\, 0\, 0)\; font-family: Arial\, Helvetica\, sans-serif\; font-size: 12px\; line-height: normal\;">Tickets will be at will call on the day of the game under the name of the requester.</span>
LOCATION:Kannapolis Intimidators Stadium 2888 Moose Rd. | Kannapolis\, NC 28083
UID:e.2418.5105334
SEQUENCE:3
DTSTAMP:20260422T204814Z
URL:https://members.cabarrusncchamber.org/events/details/chamber-night-baseball-06-04-2015-5105334
END:VEVENT

END:VCALENDAR
