BEGIN:VCALENDAR
VERSION:2.0
PRODID:-//ChamberMaster//Event Calendar 2.0//EN
METHOD:PUBLISH
X-PUBLISHED-TTL:P3D
REFRESH-INTERVAL:P3D
CALSCALE:GREGORIAN
BEGIN:VEVENT
DTSTART:20150528T123000Z
DTEND:20150528T133000Z
X-MICROSOFT-CDO-ALLDAYEVENT:FALSE
SUMMARY:Chamber 101
DESCRIPTION:Provides Chamber members an overview of the membership benefits. Learn about website features\, business resources\, advertising opportunites networking and how to promote your business. Chamber 101 is attended most often by new members or new employees. We also welcome exisiting members to join us as a refresher course. Registration is helpful for our breakfast sponsors to plan refreshments. Event Sponsors: Moxy Publishing\, Carolinas Medical Center NorthEast\, Business Today\, Duke Energy\, Two Minds Design & Sign
X-ALT-DESC;FMTTYPE=text/html:Provides Chamber members an overview of the membership benefits. Learn about website features\, business resources\, advertising opportunites networking and how to promote your business. Chamber 101 is attended most often by new members or new employees. We also welcome exisiting members to join us as a refresher course. Registration is helpful for our breakfast sponsors to plan refreshments. Event Sponsors: <strong><a href="http://moxypublishing.com/" target="_blank">Moxy Publishing</a></strong>\, <strong><a href="http://www.carolinashealthcare.org//index.jsp?sid=t487" target="_blank">Carolinas Medical Center NorthEast</a></strong>\, <strong><a href="http://www.businesstodaync.com/" target="_blank">Business Today</a></strong>\, <strong><a href="http://www.duke-energy.com" target="_blank">Duke Energy</a></strong>\, <strong><a href="http://www.2minds.biz" target="_blank">Two Minds Design &amp\; Sign</a></strong>
LOCATION:Cabarrus Regional Chamber of Commerce Chamber Executive Board Room 3003 Dale Earnhardt Blvd Suite 2
UID:e.2418.5105335
SEQUENCE:3
DTSTAMP:20260424T062322Z
URL:https://members.cabarrusncchamber.org/events/details/chamber-101-05-28-2015-5105335
END:VEVENT

END:VCALENDAR
