BEGIN:VCALENDAR
VERSION:2.0
PRODID:-//ChamberMaster//Event Calendar 2.0//EN
METHOD:PUBLISH
X-PUBLISHED-TTL:P3D
REFRESH-INTERVAL:P3D
CALSCALE:GREGORIAN
BEGIN:VEVENT
DTSTART:20160506T223000Z
DTEND:20160507T023000Z
X-MICROSOFT-CDO-ALLDAYEVENT:FALSE
SUMMARY:Celebrate Cabarrus
DESCRIPTION:For the 3rd year\, your chamber will partner with the Cabarrus Economic Development Corporation and the Convention and Visitors Bureau to host a night of celebration and fun!  Celebrate Cabarrus will recognize outstanding individuals and organizations in our community in areas of both business and tourism.  This formal evening event will include the presentation of awards followed by a night of dancing.\n\n\n\nTo apply for or nominate businesses for the Chamber awards below\, please submit your application by April 13th to Deborah Carter - dcarter@cabarrus.biz.\n\n\n\nSmall Business of the Year:\n\nNomination Form (may self-nominate)\n\nApplication Form\n\n\n\nEnvironmental Excellence & Sustainability Award:\n\nApplication Form
X-ALT-DESC;FMTTYPE=text/html:<p>For the 3rd year\, your chamber will partner with the Cabarrus Economic Development Corporation and the Convention and Visitors Bureau to host a night of celebration and fun!&nbsp\; Celebrate Cabarrus will recognize outstanding individuals and organizations in our community in areas of both business and tourism.&nbsp\; This formal evening event will include the presentation of awards followed by a night of dancing.<br />\n<br />\nTo apply for or nominate businesses for the Chamber awards below\, please submit your application by April 13th to Deborah Carter - <a href="mailto:dcarter@cabarrus.biz">dcarter@cabarrus.biz</a>.<br />\n<br />\n<strong>Small Business of the Year</strong>:<br />\n<a href="https://chambermaster.blob.core.windows.net/userfiles/UserFiles/chambers/2418/File/NominationForm_2015Updated.pdf">Nomination Form </a>(may self-nominate)<br />\n<a href="https://chambermaster.blob.core.windows.net/userfiles/UserFiles/chambers/2418/File/SmallBusinessAward_app_2015.pdf">Application Form</a><br />\n<br />\n<strong>Environmental Excellence &amp\; Sustainability&nbsp\;Award:</strong><br />\n<a href="https://chambermaster.blob.core.windows.net/userfiles/UserFiles/chambers/2418/File/SustainabilityApplication_2016.docx">Application Form</a><br />\n&nbsp\;</p>\n
LOCATION:Great Wolf Lodge Charlotte/Concord 10175 Weddington Rd Ext Concord\, NC 28027
UID:e.2418.5105684
SEQUENCE:3
DTSTAMP:20260420T211021Z
URL:https://members.cabarrusncchamber.org/events/details/celebrate-cabarrus-05-06-2016-5105684
END:VEVENT

END:VCALENDAR
