BEGIN:VCALENDAR
VERSION:2.0
PRODID:-//ChamberMaster//Event Calendar 2.0//EN
METHOD:PUBLISH
X-PUBLISHED-TTL:P3D
REFRESH-INTERVAL:P3D
CALSCALE:GREGORIAN
BEGIN:VEVENT
DTSTART:20150501T223000Z
DTEND:20150502T035900Z
X-MICROSOFT-CDO-ALLDAYEVENT:FALSE
SUMMARY:Celebrate Cabarrus
DESCRIPTION:Please join us for the second annual Celebrate Cabarrus awards ceremony and celebration. Cabarrus County Chamber of Commerce\, Cabarrus County Economic Development and the Convention & Visitors Bureau will once again come together to host the most anticipated event of the year for a night of recognition and fun! Celebrate Cabarrus will recognize outstanding individuals\, businesses and organizations in our community in areas of both tourism\, business and economic development. This formal evening event will include a VIP Reception for Chamber & EDC Sponsors and CVB VIP Guests\, followed by the main event. Guests will enjoy dinner and two complimentary beverages! A cash bar will also be available.  Sponsorships for the chamber awards are available through online registration or you can contact us at 704.782.4000 or memberservices@cabarrus.biz.
X-ALT-DESC;FMTTYPE=text/html:Please join us for the second annual Celebrate Cabarrus awards ceremony and celebration. Cabarrus County Chamber of Commerce\, Cabarrus County Economic Development and the Convention & Visitors Bureau will once again come together to host the most anticipated event of the year for a night of recognition and fun! Celebrate Cabarrus will recognize outstanding individuals\, businesses and organizations in our community in areas of both tourism\, business and economic development. This formal evening event will include a VIP Reception for Chamber & EDC Sponsors and CVB VIP Guests\, followed by the main event. Guests will enjoy dinner and two complimentary beverages! A cash bar will also be available.  Sponsorships for the chamber awards are available through online registration or you can contact us at 704.782.4000 or memberservices@cabarrus.biz.
LOCATION:Embassy Suites Charlotte-Concord 5400 John Q. Hammons Dr NW Concord\, NC 28027
UID:e.2418.73535
SEQUENCE:3
DTSTAMP:20260424T062111Z
URL:https://members.cabarrusncchamber.org/events/details/celebrate-cabarrus-05-01-2015-73535
END:VEVENT

END:VCALENDAR
