BEGIN:VCALENDAR
VERSION:2.0
PRODID:-//ChamberMaster//Event Calendar 2.0//EN
METHOD:PUBLISH
X-PUBLISHED-TTL:P3D
REFRESH-INTERVAL:P3D
CALSCALE:GREGORIAN
BEGIN:VEVENT
DTSTART:20190319T120000Z
DTEND:20190319T160000Z
X-MICROSOFT-CDO-ALLDAYEVENT:FALSE
SUMMARY:Cabarrus County Career Connections Day
DESCRIPTION:As we talk to businesses\, regardless of size\, the number one concern is workforce development and growing a skilled talent pipeline. This is a GREAT opportunity for your business to help! \n\n \n\nCabarrus County Schools\, Kannapolis City Schools\, the Cabarrus County Education Foundation and the Cabarrus Regional Chamber of Commerce are collaborating to provide a unique and special opportunity to 1\,200 high school juniors and seniors of our community by bringing them a comprehensive career awareness and exploration experience at the Cabarrus Arena and Events Center on Tuesday\, March 19\, 2019 from 8 a.m. - 12 p.m.\, and we need your help! \n\n \n\nIt is our hope that this career development event will introduce students to a wide range of careers through hands-on activities\, work-related simulations\, internship/apprenticeship/part-time work recruitment opportunities\, preparation for the job market through soft skills coaching\, and much more! We invite you to be a part of this collaborative effort to prepare our high school students to be "Career Ready" by doing at least one of the following: \n\n \n\n	Introduce students to possible career fields by sharing hands-on experiences about career opportunities at your company's booth\n	Recruit for open positions \n	Prepare students for the future job market by sponsoring one of the career cafe symposiums\n	Help students learn about alternative paths for achieving necessary career education through community schools\, trade schools\, etc. \n	Share information on internships/apprenticeship programs and part-time employment\n\n \n\nClick here to find additional information and reserve your space. We welcome any and all questions\; please feel free to contact one of the following with any inquiries: \n\n\n	Ms. Amy Gough at 704-260-5608 or amy.gough@cabarrus.k12.nc.us \n	Ms. Holly Pore at 704-932-6125\, ext. 222114 or holly.pore@kcs.k12.nc.us \n	Mr. Peter Kim at 704-260-6720\, ext. 45903 or peter.kim@cabarrus.k12.nc.us \n	Ms. Karen Ingram at 704-260-6000 ext. 11639 or karen.ingram@cabarrus.k12.nc.us \n\n \n\nThank you for making our future better by investing in our youth today!\n\n\n\n\n\nFor more information or to register online: \n\nhttps://cabarruscountyeducationfoundationorg.presencehost.net/what-we-do/cabarrus-county-career-connections-day.html
X-ALT-DESC;FMTTYPE=text/html:<span style="font-size:12px\;"><span style="font-family:arial\;"><span style="color:#515764\;">As we talk to businesses\, regardless of size\, the number one concern is workforce development and growing a skilled talent pipeline. This is a GREAT opportunity for your business to help! </span><br />\n&nbsp\;<br />\n<span style="color:#515764\;">Cabarrus County Schools\, Kannapolis City Schools\, the Cabarrus County Education Foundation and the Cabarrus Regional Chamber of Commerce are collaborating to provide a unique and special opportunity to 1\,200 high school juniors and seniors of our community by bringing them a comprehensive career awareness and exploration experience at the Cabarrus Arena and Events Center on <strong>Tuesday\, March 19\, 2019 from 8 a.m. - 12 p.m.\, </strong>and we need your help! </span><br />\n&nbsp\;<br />\n<span style="color:#515764\;">It is our hope that this career development event will introduce students to a wide range of careers through hands-on activities\, work-related simulations\, internship/apprenticeship/part-time work recruitment opportunities\, preparation for the job market through soft skills coaching\, and much more! We invite you to be a part of this collaborative effort to prepare our high school students to be &ldquo\;Career Ready&rdquo\; by doing at least one of the following:&nbsp\;</span><br />\n&nbsp\;</span></span>\n<ul>\n	<li><span style="font-size:12px\;"><span style="font-family:arial\;"><span style="color:#515764\;">Introduce students to possible career fields by sharing&nbsp\;hands-on experiences about career opportunities at your company&#39\;s booth</span></span></span></li>\n	<li><span style="font-size:12px\;"><span style="font-family:arial\;"><span style="color:#515764\;">Recruit for open positions </span></span></span></li>\n	<li><span style="font-size:12px\;"><span style="font-family:arial\;"><span style="color:#515764\;">Prepare students for the future job market by sponsoring one of the career cafe symposiums</span></span></span></li>\n	<li><span style="font-size:12px\;"><span style="font-family:arial\;"><span style="color:#515764\;">Help students learn about alternative paths for achieving necessary career education&nbsp\;through community schools\, trade schools\, etc.&nbsp\;</span></span></span></li>\n	<li><span style="font-size:12px\;"><span style="font-family:arial\;"><span style="color:#515764\;">Share information on internships/apprenticeship programs and part-time employment</span></span></span></li>\n</ul>\n<span style="font-size:12px\;"><span style="font-family:arial\;">&nbsp\;<br />\n<span style="color:#403F42\;"><a href="http://r20.rs6.net/tn.jsp?f=001h_PEJUKP1Y1oIcgi_8bf7Ar0dsZB8_Mh6_nrk6cYPJcdcy0lX9sOZPnGgJ2y51WnQ-Ni_gw1Hxao7CD7vRhScOUk2lkad4zZLbzzbVUTNPJVPkBzQboUDh5iZHM3PrTfbnYEVUUY4QsR-6B1onrhjfabhgwW1d6-21B2fLdDCxTE9_E9NALy6P1hvhdBAKKVDPACOmapd-zhz30_nJmulkN4kPU-fOhza1M2vG4qMff7A8XrPtcdqlQA-TwjHn-Q5QdzpZ7fI5U=&amp\;c=wlL1SWXietuITJJivCdzvvEW5XR_vPug861uKJc6eesuwRPXC2eLsQ==&amp\;ch=6iKCA98LmAETdUqONbHcpwuz8Xa2VefDD1LXua0jvmNwH-5BY6riZw==" target="_blank"><span style="color:#006A8F\;">Click here</span></a></span><span style="color:#515764\;"> to find additional information and reserve your space. We welcome any and all questions\; please feel free to contact one of the following with any inquiries: </span></span></span>\n\n<ul>\n	<li><span style="font-size:12px\;"><span style="font-family:arial\;"><span style="color:#515764\;">Ms. Amy Gough at 704-260-5608 <strong>or&nbsp\;</strong></span><span style="color:#403F42\;"><a href="mailto:amy.gough@cabarrus.k12.nc.us" target="_blank"><span style="color:#515764\;">amy.gough@cabarrus.k12.nc.us</span></a> </span></span></span></li>\n	<li><span style="font-size:12px\;"><span style="font-family:arial\;"><span style="color:#515764\;">Ms. Holly Pore at 704-932-6125\, ext. 222114 <strong>or&nbsp\;</strong></span><span style="color:#403F42\;"><a href="mailto:holly.pore@kcs.k12.nc.us" target="_blank"><span style="color:#515764\;">holly.pore@kcs.k12.nc.us</span></a> </span></span></span></li>\n	<li><span style="font-size:12px\;"><span style="font-family:arial\;"><span style="color:#515764\;">Mr. Peter Kim at 704-260-6720\, ext. 45903 <strong>or&nbsp\;</strong></span><span style="color:#403F42\;"><a href="mailto:peter.kim@cabarrus.k12.nc.us" target="_blank"><span style="color:#515764\;">peter.kim@cabarrus.k12.nc.us</span></a> </span></span></span></li>\n	<li><span style="font-size:12px\;"><span style="font-family:arial\;"><span style="color:#515764\;">Ms. Karen Ingram at 704-260-6000 ext. 11639 <strong>or&nbsp\;</strong><a href="mailto:Karen.ingram@cabarrus.k12.nc.us" target="_blank"><span style="color:#515764\;">karen.ingram@cabarrus.k12.nc.us</span></a> </span></span></span></li>\n</ul>\n<span style="font-size:12px\;"><span style="font-family:arial\;">&nbsp\;<br />\n<span style="color:#515764\;">Thank you for making our future better by investing in our youth today!</span><br />\n<br />\n<br />\nFor more information or to register online:&nbsp\;<br />\nhttps://cabarruscountyeducationfoundationorg.presencehost.net/what-we-do/cabarrus-county-career-connections-day.html</span></span>
LOCATION:Cabarrus Arena and Events Center
UID:e.2418.5108675
SEQUENCE:3
DTSTAMP:20260420T084859Z
URL:https://members.cabarrusncchamber.org/events/details/cabarrus-county-career-connections-day-5108675
END:VEVENT

END:VCALENDAR
