BEGIN:VCALENDAR
VERSION:2.0
PRODID:-//ChamberMaster//Event Calendar 2.0//EN
METHOD:PUBLISH
X-PUBLISHED-TTL:P3D
REFRESH-INTERVAL:P3D
CALSCALE:GREGORIAN
BEGIN:VEVENT
DTSTART:20150217T130000Z
DTEND:20150217T141500Z
X-MICROSOFT-CDO-ALLDAYEVENT:FALSE
SUMMARY:Cabarrus Connections Group
DESCRIPTION:Connections Group meets the first and third Tuesday of the month.
X-ALT-DESC;FMTTYPE=text/html:Connections Group meets the first and third Tuesday of the month.
LOCATION:Panera Bread- Across from Concord Mills Mall 8034 Concord Mills Blvd. Concord\, NC 28027
UID:e.2418.66751
SEQUENCE:3
DTSTAMP:20260423T230610Z
URL:https://members.cabarrusncchamber.org/events/details/cabarrus-connections-group-02-17-2015-66751
END:VEVENT

END:VCALENDAR
