BEGIN:VCALENDAR
VERSION:2.0
PRODID:-//ChamberMaster//Event Calendar 2.0//EN
METHOD:PUBLISH
X-PUBLISHED-TTL:P3D
REFRESH-INTERVAL:P3D
CALSCALE:GREGORIAN
BEGIN:VEVENT
DTSTART:20160119T130000Z
DTEND:20160119T140000Z
X-MICROSOFT-CDO-ALLDAYEVENT:FALSE
SUMMARY:Cabarrus Connections
DESCRIPTION:Connection groups are comprised of local business people who share a simple belief   that they can be more successful together than on their own. Through leads\, referrals\, sharing of best practices and encouraging each others common experiences\, each group builds a network of trust and confidence that helps its members thrive.\n\n\n\n  Click here to learn more.
X-ALT-DESC;FMTTYPE=text/html:<p><span style="font-size:12px\;"><span style="font-family:arial\;"><span style="color: rgb(102\, 102\, 102)\; line-height: 24px\;">Connection groups are comprised of local business&nbsp\;</span><span style="color: rgb(102\, 102\, 102)\; line-height: 24px\;">people who share a simple belief &ndash\; that they can be more&nbsp\;successful together than on their own. Through leads\, referrals\, sharing of best practices and encouraging each others common experiences\, each group builds a network of trust and confidence that helps its members thrive.<br />\n<br />\n<a href="http://www.cabarrus.biz/index.php?src=gendocs&amp\;ref=Cabarrus%20Connections&amp\;category=programs"><span style="font-size:16px\;"><strong>&gt\; Click here to learn more.</strong></span></a></span></span></span></p>\n
LOCATION:Panera Bread at Concord Mills 8034 Concord Mills Boulevard Concord\, NC 28027
UID:e.2418.5105666
SEQUENCE:3
DTSTAMP:20260420T012729Z
URL:https://members.cabarrusncchamber.org/events/details/cabarrus-connections-01-19-2016-5105666
END:VEVENT

END:VCALENDAR
