BEGIN:VCALENDAR
VERSION:2.0
PRODID:-//ChamberMaster//Event Calendar 2.0//EN
METHOD:PUBLISH
X-PUBLISHED-TTL:P3D
REFRESH-INTERVAL:P3D
CALSCALE:GREGORIAN
BEGIN:VEVENT
DTSTART:20150401T180000Z
DTEND:20150401T220000Z
X-MICROSOFT-CDO-ALLDAYEVENT:FALSE
SUMMARY:Business Expo
DESCRIPTION:Held annually\, the Business Expo allows businesses to share information about their products and build relationships with other business professionals in a casual setting. This event features area exhibitors in a variety of industries\, organizations and nonprofits. Exhibitors will get a display table\, cloth and the privacy of pipe and drape. The 2015 Business Expo will include a new wine-tasting event for exhibitors\, members and the general public from 4-6 PM.
X-ALT-DESC;FMTTYPE=text/html:Held annually\, the Business Expo allows businesses to share information about their products and build relationships with other business professionals in a casual setting. This event features area exhibitors in a variety of industries\, organizations and nonprofits. Exhibitors will get a display table\, cloth and the privacy of pipe and drape. The 2015 Business Expo will include a new wine-tasting event for exhibitors\, members and the general public from 4-6 PM.
LOCATION:Embassy Suites- Charlotte/Concord Conference Center 5400 John Q. Hammons Dr NW Concord\, NC 28027
UID:e.2418.70637
SEQUENCE:3
DTSTAMP:20260422T195421Z
URL:https://members.cabarrusncchamber.org/events/details/business-expo-04-01-2015-70637
END:VEVENT

END:VCALENDAR
