BEGIN:VCALENDAR
VERSION:2.0
PRODID:-//ChamberMaster//Event Calendar 2.0//EN
METHOD:PUBLISH
X-PUBLISHED-TTL:P3D
REFRESH-INTERVAL:P3D
CALSCALE:GREGORIAN
BEGIN:VEVENT
DTSTART:20151021T153000Z
DTEND:20151021T170000Z
X-MICROSOFT-CDO-ALLDAYEVENT:FALSE
SUMMARY:Business Dialogue
DESCRIPTION:October Topic: Improving Sales Results\n\n\n\nBusiness Dialogue is designed for small business owners and management\, It helps participants learn how to approach challenging business issues\; topics will change monthly. Network with other small businesses in a round table discussion. Facilitation keeps discussion on track and guarantees an information-packed session.\n\n\n\nLunch will be $5.00 catered by Bob Evans\, advance registration is appreciated.\n\n\n\n2015 Program facilitated by Warren Williams\, Turning Point Coaching
X-ALT-DESC;FMTTYPE=text/html:<strong><span style="font-size:24px\;"><em><span style="font-family: times new roman\;">October Topic: Improving Sales Results</span></em></span></strong><br style="line-height: 20.7999992370605px\;" />\n<br style="line-height: 20.7999992370605px\;" />\n<span style="line-height: 20.7999992370605px\;">Business&nbsp\;</span>Dialogue<span style="line-height: 20.7999992370605px\;">&nbsp\;is designed for small business owners and management\, It helps participants learn how to approach challenging business issues\; topics will change monthly. Network with other small businesses in a round table discussion. Facilitation keeps discussion on track and guarantees an information-packed session.</span><br style="line-height: 20.7999992370605px\;" />\n<br style="line-height: 20.7999992370605px\;" />\n<span style="line-height: 20.7999992370605px\;">Lunch will be $5.00 catered by Bob Evans</span><span style="line-height: 20.7999992370605px\;">\, advance registration is appreciated.</span><br style="line-height: 20.7999992370605px\;" />\n<br style="line-height: 20.7999992370605px\;" />\n<span style="line-height: 20.7999992370605px\;">2015 Program facilitated by Warren Williams\,&nbsp\;</span><a href="http://turningpointbizcoach.com/" style="line-height: 20.7999992370605px\;">Turning Point Coaching</a><br />\n&nbsp\;
LOCATION:Cabarrus Regional Chamber of Commerce 3003 Dale Earnhardt Blvd Suite 2 Kannapolis\, NC 28083 Executive Board Room
UID:e.2418.5105588
SEQUENCE:3
DTSTAMP:20260421T170529Z
URL:https://members.cabarrusncchamber.org/events/details/business-dialogue-10-21-2015-5105588
END:VEVENT

END:VCALENDAR
