BEGIN:VCALENDAR
VERSION:2.0
PRODID:-//ChamberMaster//Event Calendar 2.0//EN
METHOD:PUBLISH
X-PUBLISHED-TTL:P3D
REFRESH-INTERVAL:P3D
CALSCALE:GREGORIAN
BEGIN:VEVENT
DTSTART:20150819T153000Z
DTEND:20150819T170000Z
X-MICROSOFT-CDO-ALLDAYEVENT:FALSE
SUMMARY:Business Dialogue
DESCRIPTION:August Topic: Using Video to Promote Your Business\n\n\n\nBusiness Dialogue is designed for small business owners and management\, It helps participants learn how to approach challenging business issues\; topics will change monthly. Network with other small businesses in a round table discussion. Facilitation keeps discussion on track and guarantees an information-packed session.\n\n\n\nLunch will be $5.00 catered by Tijuana Flats\, advance registration is appreciated.\n\n\n\n2015 Program facilitated by Warren Williams\, Turning Point Coaching
X-ALT-DESC;FMTTYPE=text/html:<strong><span style="font-size:24px\;"><em><span style="font-family: times new roman\;">August Topic: Using Video to Promote Your Business</span></em></span></strong><br />\n<br />\nBusiness Dialogue is designed for small business owners and management\, It helps participants learn how to approach challenging business issues\; topics will change monthly. Network with other small businesses in a round table discussion. Facilitation keeps discussion on track and guarantees an information-packed session.<br />\n<br />\nLunch will be $5.00 catered by <a href="https://tijuanaflats.com/concord/">Tijuana Flats</a>\, advance registration is appreciated.<br />\n<br />\n2015 Program facilitated by Warren Williams\, <a href="http://turningpointbizcoach.com/">Turning Point Coaching</a>
LOCATION:Cabarrus Regional Chamber of Commerce 3003 Dale Earnhardt Blvd Suite 2 Kannapolis\, NC 28083 Executive Board Room
UID:e.2418.5105587
SEQUENCE:3
DTSTAMP:20260422T204742Z
URL:https://members.cabarrusncchamber.org/events/details/business-dialogue-08-19-2015-5105587
END:VEVENT

END:VCALENDAR
