BEGIN:VCALENDAR
VERSION:2.0
PRODID:-//ChamberMaster//Event Calendar 2.0//EN
METHOD:PUBLISH
X-PUBLISHED-TTL:P3D
REFRESH-INTERVAL:P3D
CALSCALE:GREGORIAN
BEGIN:VEVENT
DTSTART:20150617T153000Z
DTEND:20150617T170000Z
X-MICROSOFT-CDO-ALLDAYEVENT:FALSE
SUMMARY:Business Dialogue
DESCRIPTION:June Topic:\n\n"Building A Brand That Delivers" featuring special guest\, Michael Anderson\, Michael A. Anderson Photography.\n\n\n\nBusiness Dialogue is designed for small business owners and management\, It helps participants learn how to approach challenging business issues\; topics will change monthly. Network with other small businesses in a round table discussion. Facilitation keeps discussion on track and guarantees an information-packed session. Complimentary lunch is served\, advance registration is appreciated.\n\n\n\n2015 Program facilitated by Warren Williams\, Turning Point Coaching
X-ALT-DESC;FMTTYPE=text/html:<strong><span style="font-size:24px\;"><em><span style="font-family: times new roman\;">June Topic:</span></em></span></strong><br />\n&quot\;<strong>Building A Brand That Delivers&quot\;</strong> featuring special guest\, Michael Anderson\, Michael A. Anderson Photography.<br />\n<br />\nBusiness Dialogue is designed for small business owners and management\, It helps participants learn how to approach challenging business issues\; topics will change monthly. Network with other small businesses in a round table discussion. Facilitation keeps discussion on track and guarantees an information-packed session. Complimentary lunch is served\, advance registration is appreciated.<br />\n<br />\n2015 Program facilitated by Warren Williams\, <a href="http://turningpointbizcoach.com/">Turning Point Coaching</a>
LOCATION:Cabarrus Regional Chamber of Commerce 3003 Dale Earnhardt Blvd Suite 2 Kannapolis\, NC 28083 Executive Board Room
UID:e.2418.5105336
SEQUENCE:3
DTSTAMP:20260422T154824Z
URL:https://members.cabarrusncchamber.org/events/details/business-dialogue-06-17-2015-5105336
END:VEVENT

END:VCALENDAR
