BEGIN:VCALENDAR
VERSION:2.0
PRODID:-//ChamberMaster//Event Calendar 2.0//EN
METHOD:PUBLISH
X-PUBLISHED-TTL:P3D
REFRESH-INTERVAL:P3D
CALSCALE:GREGORIAN
BEGIN:VEVENT
DTSTART:20160420T153000Z
DTEND:20160420T170000Z
X-MICROSOFT-CDO-ALLDAYEVENT:FALSE
SUMMARY:Business Dialogue
DESCRIPTION:Business Dialogue is designed for small business owners and management\,It helps participants learn how to approach challenging business issues\; topics will change monthly. Network with other small businesses in a round table discussion. Facilitation keeps discussion on track and guarantees an information-packed session.  Lunch will be served for $5\, advance registration is appreciated.\n\n\n\n2016 Program facilitated by Warren Williams\, Turning Point Coaching\n\n\n\nApril Topic:  Creative Marketing
X-ALT-DESC;FMTTYPE=text/html:<div><span style="line-height: 1.6\;">Business </span>Dialogue<span style="line-height: 1.6\;"> is designed for small business owners and management\,It helps participants learn how to approach challenging business issues\; topics will change monthly. Network with other small businesses in a round table discussion. Facilitation keeps discussion on track and guarantees an information-packed session. &nbsp\;Lunch will be served for $5\, advance registration is appreciated.</span></div>\n\n<div><br />\n2016&nbsp\;Program facilitated by Warren Williams\, <a href="http://turningpointbizcoach.com/">Turning Point Coaching</a><br />\n<br />\n<span style="font-size:11px\;"><strong style="text-align: center\; font-family: arial\; font-size: 18px\;"><em><span style="line-height: 1.6\;">April Topic:&nbsp\;</span><span style="line-height: normal\;">&nbsp\;Creative Marketing</span></em></strong></span></div>\n
LOCATION:Cabarrus Regional Chamber of Commerce 3003 Dale Earnhardt Blvd Suite 2 Kannapolis\, NC 28083 Executive Board Room
UID:e.2418.5105715
SEQUENCE:3
DTSTAMP:20260420T090738Z
URL:https://members.cabarrusncchamber.org/events/details/business-dialogue-04-20-2016-5105715
END:VEVENT

END:VCALENDAR
