BEGIN:VCALENDAR
VERSION:2.0
PRODID:-//ChamberMaster//Event Calendar 2.0//EN
METHOD:PUBLISH
X-PUBLISHED-TTL:P3D
REFRESH-INTERVAL:P3D
CALSCALE:GREGORIAN
BEGIN:VEVENT
DTSTART:20150415T153000Z
DTEND:20150415T153000Z
X-MICROSOFT-CDO-ALLDAYEVENT:FALSE
SUMMARY:Business Dialogue
DESCRIPTION:Dialogue offers learning sessions that are geared towards small business owners. Lunch is provided so registration is required. Our facilitator is Warren Williams\, President of TurningPoint Coaching for Business Performance. Topic for April: Productivity: Ways to get the most out of your busy day!
X-ALT-DESC;FMTTYPE=text/html:Dialogue offers learning sessions that are geared towards small business owners. Lunch is provided so registration is required. Our facilitator is Warren Williams\, President of TurningPoint Coaching for Business Performance. Topic for April: Productivity: Ways to get the most out of your busy day!
LOCATION:Chamber Executive Room
UID:e.2418.70653
SEQUENCE:3
DTSTAMP:20260423T104713Z
URL:https://members.cabarrusncchamber.org/events/details/business-dialogue-04-15-2015-70653
END:VEVENT

END:VCALENDAR
