BEGIN:VCALENDAR
VERSION:2.0
PRODID:-//ChamberMaster//Event Calendar 2.0//EN
METHOD:PUBLISH
X-PUBLISHED-TTL:P3D
REFRESH-INTERVAL:P3D
CALSCALE:GREGORIAN
BEGIN:VEVENT
DTSTART:20150218T163000Z
DTEND:20150218T180000Z
X-MICROSOFT-CDO-ALLDAYEVENT:FALSE
SUMMARY:Business Dialogue
DESCRIPTION:Dialogue offers learning sessions that are geared towards small business owners. Lunch is provided so registration is required.   Our facilitator is Warren Williams\, President of TurningPoint Coaching for Business Performance.   Topic for February: managing cash flow\; creative ways to control expenses as well as using cash appropriately.
X-ALT-DESC;FMTTYPE=text/html:Dialogue offers learning sessions that are geared towards small business owners. Lunch is provided so registration is required.   Our facilitator is Warren Williams\, President of TurningPoint Coaching for Business Performance.   Topic for February: managing cash flow\; creative ways to control expenses as well as using cash appropriately.
LOCATION:Chamber Executive Room
UID:e.2418.65323
SEQUENCE:3
DTSTAMP:20260423T230736Z
URL:https://members.cabarrusncchamber.org/events/details/business-dialogue-02-18-2015-65323
END:VEVENT

END:VCALENDAR
