BEGIN:VCALENDAR
VERSION:2.0
PRODID:-//ChamberMaster//Event Calendar 2.0//EN
METHOD:PUBLISH
X-PUBLISHED-TTL:P3D
REFRESH-INTERVAL:P3D
CALSCALE:GREGORIAN
BEGIN:VEVENT
DTSTART:20160217T163000Z
DTEND:20160217T180000Z
X-MICROSOFT-CDO-ALLDAYEVENT:FALSE
SUMMARY:Business Dialogue
DESCRIPTION:February Topic: Creating A Sales Process For Maximum Results\n\n\n\nBusiness Dialogue is designed for small business owners and management\, It helps participants learn how to approach challenging business issues\; topics will change monthly. Network with other small businesses in a round table discussion. Facilitation keeps discussion on track and guarantees an information-packed session.  Lunch will be served for $5\, advance registration is appreciated.\n\n\n\n2015 Program facilitated by Warren Williams\, Turning Point Coaching
X-ALT-DESC;FMTTYPE=text/html:<span style="font-size:18px\;"><span style="font-family:arial\;"><strong><em>February Topic:&nbsp\;</em><span style="line-height: normal\; text-align: center\;">Creating A Sales Process For Maximum Results</span></strong></span></span><br />\n<br />\nBusiness Dialogue is designed for small business owners and management\, It helps participants learn how to approach challenging business issues\; topics will change monthly. Network with other small businesses in a round table discussion. Facilitation keeps discussion on track and guarantees an information-packed session. &nbsp\;Lunch will be served for $5\, advance registration is appreciated.<br />\n<br />\n2015 Program facilitated by Warren Williams\, <a href="http://turningpointbizcoach.com/">Turning Point Coaching</a>
LOCATION:Cabarrus Regional Chamber of Commerce 3003 Dale Earnhardt Blvd Suite 2 Kannapolis\, NC 28083 Executive Board Room
UID:e.2418.5105669
SEQUENCE:3
DTSTAMP:20260421T001855Z
URL:https://members.cabarrusncchamber.org/events/details/business-dialogue-02-17-2016-5105669
END:VEVENT

END:VCALENDAR
