BEGIN:VCALENDAR
VERSION:2.0
PRODID:-//ChamberMaster//Event Calendar 2.0//EN
METHOD:PUBLISH
X-PUBLISHED-TTL:P3D
REFRESH-INTERVAL:P3D
CALSCALE:GREGORIAN
BEGIN:VEVENT
DTSTART:20150908T213000Z
DTEND:20150908T230000Z
X-MICROSOFT-CDO-ALLDAYEVENT:FALSE
SUMMARY:Business After Hours: DataChambers
DESCRIPTION:DataChambers will be hosting this event at The Club at Irish Creek Clubhouse. Join us for food\, fun\, door prizes and networking from 5:30 PM - 7:00 PM\n\n\n\nBusiness After Hours is our premier networking event for business professionals\, giving you the opportunity to discuss and share ideas while learning about other local businesses. It is a relationship-building experience held in a relaxed setting that benefits you and your company through added contacts and resources. Business After Hours is held at various locations determined by our Host Sponsor. Guests will enjoy beverages and a variety of lite bites. Business After Hours is free for Chamber members and non-member guests are welcome to attend up to three times.\n\n\n\nMore Information on our September 2015 Host Sponsor:  INTERESTED IN HOSTING OR OTHER SPONSORSHIP? Contatct us at 704.782.4000 and we will connect you with your member service representative.
X-ALT-DESC;FMTTYPE=text/html:<span style="font-size:14px\;"><strong>DataChambers<span style="line-height: 20.7999992370605px\;">&nbsp\;will be hosting this event at <em><span style="color:#cc0000\;">The Club at Irish Creek Clubhouse</span></em>. Join us for food\, fun\, door prizes and networking from 5:30 PM - 7:00 PM</span></strong></span><br />\n<br />\nBusiness After Hours is our premier networking event for business professionals\, giving you the opportunity to discuss and share ideas while learning about other local businesses. It is a relationship-building experience held in a relaxed setting that benefits you and your company through added contacts and resources. Business After Hours is held at various locations determined by our Host Sponsor. Guests will enjoy beverages and a variety of lite bites. Business After Hours is free for Chamber members and non-member guests are welcome to attend up to three times.<br />\n<br />\nMore Information on our September 2015 Host Sponsor: <strong><a a="" class="scayt-misspell-word" data-scayt-word="DataChambers" href="http://www.datachambers.com" span=""> INTERESTED IN HOSTING OR OTHER SPONSORSHIP? Contatct us at 704.782.4000 and we will connect you with your member service representative.</a></strong>
LOCATION:The Club at Irish Creek 1196 Fairway Dr. Kannapolis\, NC 28081
UID:e.2418.49985
SEQUENCE:3
DTSTAMP:20260421T170145Z
URL:https://members.cabarrusncchamber.org/events/details/business-after-hours-datachambers-09-08-2015-49985
END:VEVENT

END:VCALENDAR
