BEGIN:VCALENDAR
VERSION:2.0
PRODID:-//ChamberMaster//Event Calendar 2.0//EN
METHOD:PUBLISH
X-PUBLISHED-TTL:P3D
REFRESH-INTERVAL:P3D
CALSCALE:GREGORIAN
BEGIN:VEVENT
DTSTART:20150811T213000Z
DTEND:20150811T230000Z
X-MICROSOFT-CDO-ALLDAYEVENT:FALSE
SUMMARY:Business After Hours
DESCRIPTION:Business After Hours is our premier networking event for business professionals\, giving you the opportunity to discuss and share ideas while learning about other local businesses. It is a relationship-building experience held in a relaxed setting that benefits you and your company through added contacts and resources.\n\n\n\nRitchie Hill Business After Hours will feature lite bites catered by Union Street Bistro and decor by Chelish Moore Flowers. \n\n\n\n INTERESTED IN HOSTING OR OTHER SPONSORSHIP? Contatct us at 704.782.4000 and we will connect you with your member service representative.
X-ALT-DESC;FMTTYPE=text/html:Business After Hours is our premier networking event for business professionals\, giving you the opportunity to discuss and share ideas while learning about other local businesses. It is a relationship-building experience held in a relaxed setting that benefits you and your company through added contacts and resources.<br />\n<br />\n<a href="http://www.ritchiehill.com/">Ritchie Hill</a> Business After Hours will feature&nbsp\;lite bites catered by <a href="http://www.unionstreetbistro.com/">Union Street Bistro</a> and decor by <a href="http://www.chelishmoore.com/">Chelish Moore Flowers</a>.&nbsp\;<br />\n<br />\n&nbsp\;<strong><a a="" href="http://www.ritchiehill.com" ritchie="">INTERESTED IN HOSTING OR OTHER SPONSORSHIP? Contatct us at 704.782.4000 and we will connect you with your member service representative.</a></strong>
LOCATION:Ritchie Hill 391 Union Street South Concord\, NC 28025
UID:e.2418.49982
SEQUENCE:3
DTSTAMP:20260426T021309Z
URL:https://members.cabarrusncchamber.org/events/details/business-after-hours-08-11-2015-49982
END:VEVENT

END:VCALENDAR
