BEGIN:VCALENDAR
VERSION:2.0
PRODID:-//ChamberMaster//Event Calendar 2.0//EN
METHOD:PUBLISH
X-PUBLISHED-TTL:P3D
REFRESH-INTERVAL:P3D
CALSCALE:GREGORIAN
BEGIN:VEVENT
DTSTART:20150414T213000Z
DTEND:20150414T230000Z
X-MICROSOFT-CDO-ALLDAYEVENT:FALSE
SUMMARY:Business After Hours
DESCRIPTION:Business After Hours is our premier networking event for business professionals\, giving you the opportunity to discuss and share ideas while learning about other local businesses. It is a relationship-building experience held in a relaxed setting that benefits you and your company through added contacts and resources. Business After Hours is held at various locations determined by our Host Sponsor. Guests will enjoy beverages and a variety of lite bites. Business After Hours is free for Chamber members and non-member guests are welcome to attend up to three times. Expected Attendance: 75+ More Information on our April 2015 Host Sponsor: Cabarrus County Convention & Visitors Bureau INTERESTED IN HOSTING OR OTHER SPONSORSHIP? Contatct us at 704.782.4000 and we will connect you with your member service representative.
X-ALT-DESC;FMTTYPE=text/html:Business After Hours is our premier networking event for business professionals\, giving you the opportunity to discuss and share ideas while learning about other local businesses. It is a relationship-building experience held in a relaxed setting that benefits you and your company through added contacts and resources. Business After Hours is held at various locations determined by our Host Sponsor. Guests will enjoy beverages and a variety of lite bites. Business After Hours is free for Chamber members and non-member guests are welcome to attend up to three times. Expected Attendance: 75+ More Information on our April 2015 Host Sponsor: <strong><a href="http://www.visitcabarrus.com/" target="_blank">Cabarrus County Convention &amp\; Visitors Bureau</a></strong> INTERESTED IN HOSTING OR OTHER SPONSORSHIP? Contatct us at 704.782.4000 and we will connect you with your member service representative.
LOCATION:Cabarrus County Convention & Visitors Bureau 10099 Weddington Road Suite 102 Concord\, NC 28027
UID:e.2418.49970
SEQUENCE:3
DTSTAMP:20260424T085428Z
URL:https://members.cabarrusncchamber.org/events/details/business-after-hours-04-14-2015-49970
END:VEVENT

END:VCALENDAR
